Workbook

Sheet Resumo
B2: Data: 15/12/2025
B3: DEPARTAMENTO DE ÁGUA E ESGOTO DE AMERICANA
B4: Orçamento Sintético Global
B5: PESQUISA, LOCALIZAÇÃO E CORREÇÃO DE VAZAMENTOS NÃO APARENTES NO SISTEMA DE ABASTECIMENTO DE ÁGUA
B6: Resumo
B7: DATA BASE - REGIÃO: SINAPI/SP Set/25; CDHU Set/2025; SABESP Set/25
B11: Item | C11: Frente | D11: Valor (R$)
B12: 1 | C12: =Canteiro!$C$5 -> Canteiro e Administração Local | D12: =Canteiro!H22 -> 0
B13: 2 | C13: =PESQUISA!$C$5 -> Pesquisa de Vazamentos Não Aparentes | D13: =PESQUISA!H45 -> 0
B14: 3 | C14: =REPAROS!C5 -> Reparos de Vazamentos | D14: =REPAROS!H473 -> 0
B15: TOTAL GERAL (R$) | D15: =SUM(D12:D14) -> 0

Sheet Canteiro
B1: =Resumo!B2 -> Data: 15/12/2025
C2: DEPARTAMENTO DE ÁGUA E ESGOTO DE AMERICANA
C3: Orçamento Sintético Global
C4: =Resumo!B5 -> PESQUISA, LOCALIZAÇÃO E CORREÇÃO DE VAZAMENTOS NÃO APARENTES NO SISTEMA DE ABASTECIMENTO DE ÁGUA
C5: Canteiro e Administração Local
C6: Leis Sociais = 92,70% | BDI = 26,98% - obras e serviços
C7: =Resumo!B7 -> DATA BASE - REGIÃO: SINAPI/SP Set/25; CDHU Set/2025; SABESP Set/25
A9: ITEM | B9: CÓDIGO/FONTE | C9: DESCRIÇÃO | D9: UNIDADE | E9: QUANT. | F9: PREÇO UNIT. S/BDI (R$) | G9: PREÇO UNIT. C/BDI (R$) | H9: PREÇO TOTAL (R$)
A10: 1 | B10: CANTEIRO DE OBRAS
A11: 1.1 | B11: LOCAÇÃO
A12: 1.1.1 | B12: COTAÇÃO | C12: LOCAÇÃO DE TERRENO PARA CANTEIRO DE OBRAS | D12: MES | E12: 6 | G12: =F12*1.2698 -> 0 | H12: =ROUND((E12*G12),2) -> 0
A13: 1.1.2 | B13: 02.02.150 CDHU | C13: LOCAÇÃO DE CONTAINER TIPO DEPÓSITO - ÁREA MÍNIMA 13,80 m² | D13: MES | E13: 6 | G13: =F13*1.2698 -> 0 | H13: =ROUND((E13*G13),2) -> 0
A14: 1.1.3 | B14: 02.02.120 CDHU | C14: LOCAÇÃO DE CONTAINER TIPO ALOJAMENTO - ÁREA MÍNIMA 13,80 m² | D14: MES | E14: 6 | G14: =F14*1.2698 -> 0 | H14: =ROUND((E14*G14),2) -> 0
A15: 1.1.4 | B15: 02.02.140 CDHU | C15: LOCAÇÃO DE CONTAINER TIPO ESCRITÓRIO COM 2 VASOS SANITÁRIOS, 2 LAVATÓRIOS, 2 MICTÓRIOS E 4 PONTOS PARA CHUVEIRO - ÁREA MÍNIMA DE 13,80 M² | D15: MES | E15: 6 | G15: =F15*1.2698 -> 0 | H15: =ROUND((E15*G15),2) -> 0
A16: 1.1.5 | B16: 02.01.180 CDHU | C16: BANHEIRO QUÍMICO MODELO STANDARD, COM MANUTENÇÃO CONFORME EXIGÊNCIAS DA CESTESB | D16: MES | E16: 6 | G16: =F16*1.2698 -> 0 | H16: =ROUND((E16*G16),2) -> 0
A17: SUBTOTAL (Etapa): | H17: =SUM(H12:H16) -> 0
A18: 2 | B18: ADMINISTRAÇÃO
A19: 2.1 | B19: ADMINISTRAÇÃO LOCAL
A20: 2.1.1 | B20: SINAPI 90778 | C20: ENGENHEIRO CIVIL DE OBRA PLENO | D20: H | E20: =30*6 -> 180 | G20: =F20*1.2698 -> 0 | H20: =ROUND((E20*G20),2) -> 0
A21: SUBTOTAL (Etapa): | H21: =SUM(H20) -> 0
A22: TOTAL GERAL: | H22: =H17+H21 -> 0

Sheet PESQUISA
B1: =Canteiro!B1 -> Data: 15/12/2025
C2: DEPARTAMENTO DE ÁGUA E ESGOTO DE AMERICANA
C3: Orçamento Sintético Global
C4: =Resumo!B5 -> PESQUISA, LOCALIZAÇÃO E CORREÇÃO DE VAZAMENTOS NÃO APARENTES NO SISTEMA DE ABASTECIMENTO DE ÁGUA
C5: Pesquisa de Vazamentos Não Aparentes
C6: =Canteiro!C6 -> Leis Sociais = 92,70% | BDI = 26,98% - obras e serviços
C7: =Canteiro!C7 -> DATA BASE - REGIÃO: SINAPI/SP Set/25; CDHU Set/2025; SABESP Set/25
A9: ITEM | B9: CÓDIGO/ FONTE | C9: DESCRIÇÃO | D9: UNIDADE | E9: QUANT. | F9: PREÇO UNIT. S/BDI (R$) | G9: PREÇO UNIT. C/BDI (R$) | H9: PREÇO TOTAL (R$)
A10: 1 | B10: MEDIÇÃO DE PRESSÃO - ANTERIOR À PESQUISA
A11: 1.1 | B11: SINAPI 88267 | C11: ENCANADOR OU BOMBEIRO HIDRÁULICO COM ENCARGOS COMPLEMENTARES | D11: H | E11: =15/60 -> 0.25 | G11: =F11*1.2698 -> 0 | H11: =ROUND((E11*G11),2) -> 0
A12: 1.2 | B12: SABESP EQ08245 | C12: MOTOCICLETA 160 CILINDRADAS COM BAÚ - CARGO OU SIMILAR | D12: H | E12: 0.25 | G12: =F12*1.2698 -> 0 | H12: =ROUND((E12*G12),2) -> 0
A13: SUBTOTAL (Etapa): | H13: =SUM(H11:H12) -> 0
A14: QUANTIDADE (UN): | H14: 11800
A15: VALOR TOTAL (R$): | H15: =ROUND((H14*H13),2) -> 0
A16: 2 | B16: MEDIÇÃO DE PRESSÃO - POSTERIOR À PESQUISA
A17: 2.1 | B17: SINAPI 88267 | C17: ENCANADOR OU BOMBEIRO HIDRÁULICO COM ENCARGOS COMPLEMENTARES | D17: H | E17: =15/60 -> 0.25 | G17: =F17*1.2698 -> 0 | H17: =ROUND((E17*G17),2) -> 0
A18: 2.2 | B18: SABESP EQ08245 | C18: MOTOCICLETA 160 CILINDRADAS COM BAÚ - CARGO OU SIMILAR | D18: H | E18: 0.25 | G18: =F18*1.2698 -> 0 | H18: =ROUND((E18*G18),2) -> 0
A19: SUBTOTAL (Etapa): | H19: =SUM(H17:H18) -> 0
A20: QUANTIDADE (UN): | H20: 11800
A21: VALOR TOTAL (R$): | H21: =ROUND((H20*H19),2) -> 0
A22: 3 | B22: DETECÇÃO DE VAZAMENTOS NÃO VISÍVEIS COM GEOFONE ELETRÔNICO E HASTE DE ESCUTA - 1ª VARREDURA
A23: 3.1 | B23: SINAPI 100533 | C23: TECNICO DE PESQUISA ACÚSTICA DE VAZAMENTO | D23: H | E23: 6 | G23: =F23*1.2698 -> 0 | H23: =ROUND((E23*G23),2) -> 0
A24: 3.2 | B24: SINAPI 88243 | C24: AJUDANTE ESPECIALIZADO COM ENCARGOS COMPLEMENTARES | D24: H | E24: 2 | G24: =F24*1.2698 -> 0 | H24: =ROUND((E24*G24),2) -> 0
A25: 3.3 | B25: SINAPI 90779 | C25: COORDENADOR | D25: H | E25: 0.25 | G25: =F25*1.2698 -> 0 | H25: =ROUND((E25*G25),2) -> 0
A26: 3.4 | B26: SINAPI 90778 | C26: ENGENHEIRO CIVIL DE OBRA PLENO | D26: H | E26: 0.5 | G26: =F26*1.2698 -> 0 | H26: =ROUND((E26*G26),2) -> 0
A27: 3.5 | B27: SABESP EQ08249 | C27: VEÍCULO LEVE 4 PORTAS - *84CV | D27: H | E27: 1.5 | G27: =F27*1.2698 -> 0 | H27: =ROUND((E27*G27),2) -> 0
A28: SUBTOTAL (Etapa): | H28: =SUM(H23:H27) -> 0
A29: QUANTIDADE (KM): | H29: 1180
A30: VALOR TOTAL (R$): | H30: =ROUND((H29*H28),2) -> 0
A31: 4 | B31: LEVANTAMENTO DE IRREGULARIDADE CONFIRMADA
A32: 4.1 | B32: SINAPI 88243 | C32: AJUDANTE ESPECIALIZADO COM ENCARGOS COMPLEMENTARES | D32: H | E32: 0.5 | G32: =F32*1.2698 -> 0 | H32: =ROUND((E32*G32),2) -> 0
A33: 4.2 | B33: SINAPI 88267 | C33: ENCANADOR OU BOMBEIRO HIDRÁULICO COM ENCARGOS COMPLEMENTARES | D33: H | E33: =E32 -> 0.5 | G33: =F33*1.2698 -> 0 | H33: =ROUND((E33*G33),2) -> 0
A34: 4.3 | B34: SABESP EQ08249 | C34: VEÍCULO LEVE 4 PORTAS - *84CV | D34: H | E34: 0.25 | G34: =F34*1.2698 -> 0 | H34: =ROUND((E34*G34),2) -> 0
A35: SUBTOTAL (Etapa): | H35: =SUM(H32:H34) -> 0
A36: QUANTIDADE (UN): | H36: 3150
A37: VALOR TOTAL (R$): | H37: =ROUND((H36*H35),2) -> 0
A38: 5 | B38: PESQUISA DE VAZAMENTOS COM CORRELACIONADOR DE RUÍDO - 2ª VARREDURA
A39: 5.1 | B39: SINAPI 100533 | C39: TECNICO DE PESQUISA ACÚSTICA DE VAZAMENTO | D39: H | E39: 4 | G39: =F39*1.2698 -> 0 | H39: =ROUND((E39*G39),2) -> 0
A40: 5.2 | B40: SINAPI 88243 | C40: AJUDANTE ESPECIALIZADO COM ENCARGOS COMPLEMENTARES | D40: H | E40: 1.5 | G40: =F40*1.2698 -> 0 | H40: =ROUND((E40*G40),2) -> 0
A41: 5.3 | B41: SABESP EQ08249 | C41: VEÍCULO LEVE 4 PORTAS - *84CV | D41: H | E41: 1 | G41: =F41*1.2698 -> 0 | H41: =ROUND((E41*G41),2) -> 0
...

Sheet REPAROS
B1: =Canteiro!B1 -> Data: 15/12/2025
C2: DEPARTAMENTO DE ÁGUA E ESGOTO DE AMERICANA
C3: Orçamento Sintético Global
C4: =Resumo!B5 -> PESQUISA, LOCALIZAÇÃO E CORREÇÃO DE VAZAMENTOS NÃO APARENTES NO SISTEMA DE ABASTECIMENTO DE ÁGUA
C5: Reparos de Vazamentos
C6: =Canteiro!C6 -> Leis Sociais = 92,70% | BDI = 26,98% - obras e serviços
C7: =Canteiro!C7 -> DATA BASE - REGIÃO: SINAPI/SP Set/25; CDHU Set/2025; SABESP Set/25
A9: ITEM | B9: CÓDIGO/ FONTE | C9: DESCRIÇÃO | D9: UNIDADE | E9: QUANT. | F9: PREÇO UNIT. S/BDI (R$) | G9: PREÇO UNIT. C/BDI (R$) | H9: PREÇO TOTAL (R$)
A10: 1 | B10: CORREÇÃO DE VAZAMENTO EM RAMAIS
A11: 1.1 | B11: CORREÇÃO DE VAZAMENTO EM RAMAIS COM REDE NO PASSEIO
A12: 1.1.1 | B12: SINALIZAÇÃO
A13: 1.1.1.1 | B13: SABESP 70020004 | C13: SINALIZAÇÃO DE TRÁFEGO | D13: M | E13: 2 | G13: =F13*1.2698 -> 0 | H13: =ROUND((E13*G13),2) -> 0
A14: 1.1.2 | B14: DEMOLIÇÕES
A15: 1.1.2.1 | B15: SINAPI 97635 | C15: REMOÇÃO DE PISO DE BLOCO INTERTRAVADO OU DE PEDRA PORTUGUESA, DE FORMA MANUAL, COM REAPROVEITAMENTO. AF_09/2023 | D15: M2 | E15: =2*1 -> 2 | G15: =F15*1.2698 -> 0 | H15: =ROUND((E15*G15),2) -> 0
A16: 1.1.3 | B16: CARGA, DESCARGA E TRANSPORTE DE ENTULHO
A17: 1.1.3.1 | B17: SINAPI 100981 | C17: CARGA, MANOBRA E DESCARGA DE ENTULHO EM CAMINHÃO BASCULANTE 6 M³ - CARGA COM ESCAVADEIRA HIDRÁULICA (CAÇAMBA DE 0,80 M³ / 111 HP) E DESCARGA LIVRE | D17: M3 | E17: =(E15*0.15) -> 0.3 | G17: =F17*1.2698 -> 0 | H17: =ROUND((E17*G17),2) -> 0
A18: 1.1.3.2 | B18: SINAPI 97914 | C18: TRANSPORTE COM CAMINHÃO BASCULANTE DE 6 M3, EM VIA URBANA PAVIMENTADA, DMT ATÉ 30 KM (UNIDADE: M3XKM). AF_01/2018 | D18: M3XKM | E18: =E17*20 -> 6 | G18: =F18*1.2698 -> 0 | H18: =ROUND((E18*G18),2) -> 0
A19: 1.1.3.3 | B19: CDHU 05.09.006 | C19: TAXA DE DESTINAÇÃO DE RESÍDUO SÓLIDO EM ATERRO | D19: T | E19: =E17*2.4 -> 0.72 | G19: =F19*1.2698 -> 0 | H19: =ROUND((E19*G19),2) -> 0
A20: 1.1.4 | B20: MOVIMENTO DE TERRA
A21: 1.1.4.1 | B21: SINAPI 93358 | C21: ESCAVAÇÃO MANUAL DE VALA. AF_09/2024 | D21: M3 | E21: =2*1*1 -> 2 | G21: =F21*1.2698 -> 0 | H21: =ROUND((E21*G21),2) -> 0
A22: 1.1.4.2 | B22: SINAPI 93382 | C22: REATERRO MANUAL DE VALAS, COM COMPACTADOR DE SOLOS DE PERCUSSÃO. AF_08/2023 | D22: M3 | E22: =E21 -> 2 | G22: =F22*1.2698 -> 0 | H22: =ROUND((E22*G22),2) -> 0
A23: 1.1.5 | B23: TROCA DO RAMAL EXISTENTE, INCLUINDO INTERLIGAÇÃO
A24: 1.1.5.1 | B24: SINAPI 104039 | C24: TÊ DE SERVIÇO INTEGRADO, POLIPROPILENO, PARA TUBOS EM PEAD, 63 MM X 20 MM, PARA LIGAÇÃO PREDIAL DE ÁGUA. AF_06/2022 | D24: UN. | E24: 1 | G24: =F24*1.2698 -> 0 | H24: =ROUND((E24*G24),2) -> 0
A25: 1.1.5.2 | B25: SINAPI 104044 | C25: ADAPTADOR, POLIPROPILENO, PARA TUBOS EM PEAD, 20 MM X 3/4", PARA LIGAÇÃO PREDIAL DE ÁGUA. AF_06/2022 | D25: UN. | E25: 1 | G25: =F25*1.2698 -> 0 | H25: =ROUND((E25*G25),2) -> 0
A26: 1.1.5.3 | B26: SINAPI 104053 | C26: UNIÃO, POLIPROPILENO, PARA TUBOS EM PEAD, 20 MM, PARA LIGAÇÃO PREDIAL DE ÁGUA. AF_06/2022 | D26: UN. | E26: 1 | G26: =F26*1.2698 -> 0 | H26: =ROUND((E26*G26),2) -> 0
A27: 1.1.5.4 | B27: SINAPI 104051 | C27: COTOVELO/JOELHO 90°, POLIPROPILENO, PARA TUBOS EM PEAD, 20 X 20 MM, PARA LIGAÇÃO PREDIAL DE ÁGUA. AF_06/2022 | D27: UN. | E27: 1 | G27: =F27*1.2698 -> 0 | H27: =ROUND((E27*G27),2) -> 0
A28: 1.1.5.5 | B28: SINAPI 104055 | C28: REGISTRO ESFERA, PVC, DE PASSEIO, PARA POLIETILENO, 20 MM, PARA LIGAÇÃO PREDIAL DE ÁGUA. AF_06/2022 | D28: UN. | E28: 1 | G28: =F28*1.2698 -> 0 | H28: =ROUND((E28*G28),2) -> 0
A29: 1.1.5.6 | B29: SINAPI 104060 | C29: TUBO, PEAD, PE-80, DE = 20 MM X 2,3 MM, PARA LIGAÇÃO PREDIAL DE ÁGUA. AF_06/2022 | D29: M | E29: 3 | G29: =F29*1.2698 -> 0 | H29: =ROUND((E29*G29),2) -> 0
A30: SUBTOTAL (Etapa): | H30: =SUM(H10:H29) -> 0
A31: QUANTIDADE (UN): | H31: 50
A32: VALOR TOTAL (R$): | H32: =ROUND((H31*H30),2) -> 0
A33: 1.2 | B33: CORREÇÃO DE VAZAMENTO EM RAMAIS COM REDE NA RUA (TROCA DE RAMAL)
A34: 1.2.1 | B34: SINALIZAÇÃO
A35: 1.2.1.1 | B35: SABESP 70020004 | C35: SINALIZAÇÃO DE TRÁFEGO | D35: M | E35: =12*2 -> 24 | G35: =F35*1.2698 -> 0 | H35: =ROUND((E35*G35),2) -> 0
A36: 1.2.2 | B36: DEMOLIÇÕES
A37: 1.2.2.1 | B37: SINAPI 97635 | C37: REMOÇÃO DE PISO DE BLOCO INTERTRAVADO OU DE PEDRA PORTUGUESA, DE FORMA MANUAL, COM REAPROVEITAMENTO. AF_09/2023 | D37: M2 | E37: =1.5*1 -> 1.5 | G37: =F37*1.2698 -> 0 | H37: =ROUND((E37*G37),2) -> 0
A38: 1.2.2.2 | B38: 97636 SINAPI | C38: DEMOLIÇÃO PARCIAL DE PAVIMENTO ASFÁLTICO, DE FORMA MECANIZADA, SEM REAPROVEITAMENTO. AF_12/2017 | D38: M2 | E38: =1.5*1 -> 1.5 | G38: =F38*1.2698 -> 0 | H38: =ROUND((E38*G38),2) -> 0
A39: 1.2.3 | B39: CARGA, DESCARGA E TRANSPORTE DE ENTULHO
A40: 1.2.3.1 | B40: SINAPI 100981 | C40: CARGA, MANOBRA E DESCARGA DE ENTULHO EM CAMINHÃO BASCULANTE 6 M³ - CARGA COM ESCAVADEIRA HIDRÁULICA (CAÇAMBA DE 0,80 M³ / 111 HP) E DESCARGA LIVRE | D40: M3 | E40: =(E37+E38)*0.15 -> 0.45 | G40: =F40*1.2698 -> 0 | H40: =ROUND((E40*G40),2) -> 0
A41: 1.2.3.2 | B41: SINAPI 97914 | C41: TRANSPORTE COM CAMINHÃO BASCULANTE DE 6 M3, EM VIA URBANA PAVIMENTADA, DMT ATÉ 30 KM (UNIDADE: M3XKM). AF_01/2018 | D41: M3XKM | E41: =E40*20 -> 9 | G41: =F41*1.2698 -> 0 | H41: =ROUND((E41*G41),2) -> 0
...

Sheet Cotação
A1: =Canteiro!B1 -> Data: 15/12/2025
B2: DEPARTAMENTO DE ÁGUA E ESGOTO DE AMERICANA
B3: =Canteiro!C4 -> PESQUISA, LOCALIZAÇÃO E CORREÇÃO DE VAZAMENTOS NÃO APARENTES NO SISTEMA DE ABASTECIMENTO DE ÁGUA
B4: =[1]Frezarim!C5 -> Orçamento Sintético Global
B5: Cotações
A8: LOCAÇÃO DE IMÓVEL | F8: VALOR UNITÁRIO
A9: ITEM | B9: DISCRIMINAÇÃO | C9: A FORTALEZA | D9: IMPÉRIUM IMÓVEIS | E9: CONTATO IMÓVEIS
A10: 1 | B10: LOCAÇÃO DE TERRENO EM ÁREA URBANA, PARA CANTEIRO | C10: 3500 | D10: 3500 | E10: 4300 | F10: =D10 -> 3500
A11: EXECUÇÃO DE TROCA DE RAMAL ATRAVÉS DE MND | F11: VALOR UNITÁRIO
A12: ITEM | B12: DISCRIMINAÇÃO | C12: PARÂMETRO | D12: GOIANIA MAUÁ | E12: PEAD
A13: 1 | B13: LOCAÇÃO DE IMÓVEL RESIDENCIAL COM 3 DORMITÓRIOS, PARA ALOJAMENTO | C13: 1248 | D13: 985 | E13: 552.31 | F13: =D13 -> 985
A20: Engª Civil VANESSA M. DE C. FARIA
A21: Diretora da Unidade Técnica
A22: CREA/SP 506.078.329-7

Sheet Cronograma
C1: DEPARTAMENTO DE AGUA E ESGOTO DE AMERICANA
C2: =Resumo!B5 -> PESQUISA, LOCALIZAÇÃO E CORREÇÃO DE VAZAMENTOS NÃO APARENTES NO SISTEMA DE ABASTECIMENTO DE ÁGUA
C3: Cronograma Físico-Financeiro
C4: =Resumo!B7 -> DATA BASE - REGIÃO: SINAPI/SP Set/25; CDHU Set/2025; SABESP Set/25
A6: ITEM | B6: DISCRIMINAÇÃO DE ATIVIDADES | D6: VALORES (R$) | E6: A Realizar R$ - Meses | L6: TOTAL (R$)
E7: MÊS 1 | F7: MÊS 2 | G7: MÊS 3 | H7: MÊS 4 | I7: MÊS 5 | J7: MÊS 6
A8: 1 | B8: CANTEIRO DE OBRAS E ADMINISTRAÇÃO LOCAL | D8: =Canteiro!H22 -> 0 | E8: =ROUND(($D$8/6),2) -> 0 | F8: =ROUND(($D$8/6),2) -> 0 | G8: =ROUND(($D$8/6),2) -> 0 | H8: =ROUND(($D$8/6),2) -> 0 | I8: =ROUND(($D$8/6),2) -> 0 | J8: =ROUND(($D$8/6),2) -> 0 | L8: =SUM(E8:K8) -> 0
A10: 2 | B10: PESQUISAS DE VAZAMENTOS NÃO APARENTES | D10: =PESQUISA!H45 -> 0 | E10: =ROUND((D10/6),2) -> 0 | F10: =$D$10/6 -> 0 | G10: =$D$10/6 -> 0 | H10: =$D$10/6 -> 0 | I10: =$D$10/6 -> 0 | J10: =$D$10/6 -> 0 | L10: =SUM(E10:K10) -> 0
A12: 3 | B12: REPAROS DE VAZAMENTOS | D12: =REPAROS!H473 -> 0 | E12: =ROUND((D12/6),2) -> 0 | F12: =$D$12/6 -> 0 | G12: =$D$12/6 -> 0 | H12: =$D$12/6 -> 0 | I12: =$D$12/6 -> 0 | J12: =$D$12/6 -> 0 | L12: =SUM(E12:K12) -> 0
A14: TOTAIS EM R$ | D14: =SUM(D8:D13) -> 0 | E14: =SUM(E8:E13) -> 0 | F14: =SUM(F8:F13) -> 0 | G14: =SUM(G8:G13) -> 0 | H14: =SUM(H8:H13) -> 0 | I14: =SUM(I8:I13) -> 0 | J14: =SUM(J8:J13) -> 0 | L14: =SUM(E14:K14)+0.02 -> 0.02
A15: TOTAIS EM % | E15: =E14/$L$14 -> 0 | F15: =F14/$L$14 -> 0 | G15: =G14/$L$14 -> 0 | H15: =H14/$L$14 -> 0 | I15: =I14/$L$14 -> 0 | J15: =J14/$L$14 -> 0 | L15: =SUM(E15:K15) -> 0

Sheet PESQUISA (2)
B1: =Canteiro!B1 -> Data: 15/12/2025
C2: DEPARTAMENTO DE ÁGUA E ESGOTO DE AMERICANA
C3: Orçamento Sintético Global
C4: =Resumo!B5 -> PESQUISA, LOCALIZAÇÃO E CORREÇÃO DE VAZAMENTOS NÃO APARENTES NO SISTEMA DE ABASTECIMENTO DE ÁGUA
C5: Pesquisa de Vazamentos Não Aparentes
C6: =Canteiro!C6 -> Leis Sociais = 92,70% | BDI = 26,98% - obras e serviços
C7: =Canteiro!C7 -> DATA BASE - REGIÃO: SINAPI/SP Set/25; CDHU Set/2025; SABESP Set/25
A9: ITEM | B9: CÓDIGO/ FONTE | C9: DESCRIÇÃO | D9: UNIDADE | E9: QUANT. | F9: PREÇO UNIT. S/BDI (R$) | G9: PREÇO UNIT. C/BDI (R$) | H9: PREÇO TOTAL (R$)
A10: 1 | B10: PLANO DE TRABALHO
A11: 1.1 | B11: SINAPI 90778 | C11: ENGENHEIRO CIVIL DE OBRA PLENO | D11: H | E11: 50 | F11: 118.94 | G11: =F11*1.2698 -> 151.03001 | H11: =ROUND((E11*G11),2) -> 7551.5
A12: SUBTOTAL (Etapa): | H12: =SUM(H11) -> 7551.5
A13: QUANTIDADE (UN): | H13: 1
A14: VALOR TOTAL (R$): | H14: =ROUND((H13*H12),2) -> 7551.5
A15: 2 | B15: TESTE DE ESTANQUEIDADE
A16: 2.1 | B16: SINAPI 90779 | C16: COORDENADOR | D16: H | E16: 1 | F16: 165.69 | G16: =F16*1.2698 -> 210.39316 | H16: =ROUND((E16*G16),2) -> 210.39
A17: 2.2 | B17: SINAPI 90778 | C17: ENGENHEIRO CIVIL DE OBRA PLENO | D17: H | E17: 1 | F17: 118.94 | G17: =F17*1.2698 -> 151.03001 | H17: =ROUND((E17*G17),2) -> 151.03
A18: 2.3 | B18: SINAPI 90776 | C18: ENCARREGADO GERAL COM ENCARGOS COMPLEMENTARES | D18: H | E18: 4 | F18: 44.97 | G18: =F18*1.2698 -> 57.102906 | H18: =ROUND((E18*G18),2) -> 228.41
A19: 2.4 | B19: SINAPI 88267 | C19: ENCANADOR OU BOMBEIRO HIDRÁULICO COM ENCARGOS COMPLEMENTARES | D19: H | E19: 1 | F19: 36.75 | G19: =F19*1.2698 -> 46.66515 | H19: =ROUND((E19*G19),2) -> 46.67
A20: 2.5 | B20: SINAPI 88243 | C20: AJUDANTE ESPECIALIZADO COM ENCARGOS COMPLEMENTARES | D20: H | E20: 4 | F20: 29.69 | G20: =F20*1.2698 -> 37.700362 | H20: =ROUND((E20*G20),2) -> 150.8
A21: 2.6 | B21: SABESP EQ04580 | C21: FURGÃO LEVE 85 A 122CV CARGA ÚTIL 650 a 850KG | D21: H | F21: 29.69 | G21: =F21*1.2698 -> 37.700362 | H21: =ROUND((E21*G21),2) -> 0
A22: 2.7 | B22: SABESP EQ08249 | C22: VEÍCULO LEVE 4 PORTAS - *84CV | D22: H | F22: 40.95 | G22: =F22*1.2698 -> 51.99831 | H22: =ROUND((E22*G22),2) -> 0
A23: SUBTOTAL (Etapa): | H23: =SUM(H16:H20) -> 787.3
A24: QUANTIDADE (UN): | H24: 60
A25: VALOR TOTAL (R$): | H25: =ROUND((H24*H23),2) -> 47238
A26: 3 | B26: MEDIÇÃO DE PRESSÃO - ANTERIOR À PESQUISA
A27: 3.1 | B27: SINAPI 88267 | C27: ENCANADOR OU BOMBEIRO HIDRÁULICO COM ENCARGOS COMPLEMENTARES | D27: H | E27: 0.5 | F27: 39.39 | G27: =F27*1.2698 -> 50.017422 | H27: =ROUND((E27*G27),2) -> 25.01
A28: 3.2 | B28: SINAPI 88243 | C28: AJUDANTE ESPECIALIZADO COM ENCARGOS COMPLEMENTARES | D28: H | E28: 0.5 | F28: 29.69 | G28: =F28*1.2698 -> 37.700362 | H28: =ROUND((E28*G28),2) -> 18.85
A29: SUBTOTAL (Etapa): | H29: =SUM(H27:H28) -> 43.86
A30: QUANTIDADE (UN): | H30: 180
A31: VALOR TOTAL (R$): | H31: =ROUND((H30*H29),2) -> 7894.8
A32: 4 | B32: MEDIÇÃO DE PRESSÃO - RELATÓRIO E MAPA DE CALOR - POSTERIOR À PESQUISA
A33: 4.1 | B33: SINAPI 90778 | C33: ENGENHEIRO CIVIL DE OBRA PLENO | D33: H | E33: 0.5 | F33: 118.94 | G33: =F33*1.2698 -> 151.03001 | H33: =ROUND((E33*G33),2) -> 75.52
A34: 4.2 | B34: SINAPI 100533 | C34: TECNICO DE EDIFICACOES COM ENCARGOS COMPLEMENTARES | D34: H | E34: 4 | F34: 57.79 | G34: =F34*1.2698 -> 73.381742 | H34: =ROUND((E34*G34),2) -> 293.53
A35: 4.3 | B35: SINAPI 88243 | C35: AJUDANTE ESPECIALIZADO COM ENCARGOS COMPLEMENTARES | D35: H | E35: 4 | F35: 29.69 | G35: =F35*1.2698 -> 37.700362 | H35: =ROUND((E35*G35),2) -> 150.8
A36: SUBTOTAL (Etapa): | H36: =SUM(H33:H35) -> 519.85
A37: QUANTIDADE (UN): | H37: 180
A38: VALOR TOTAL (R$): | H38: =ROUND((H37*H36),2) -> 93573
A39: 5 | B39: MEDIÇÃO DE VAZÃO E PRESSÃO - RELATÓRIO E MAPA DE CALOR - ANTERIOR À PESQUISA
A40: 5.1 | B40: SINAPI 90778 | C40: ENGENHEIRO CIVIL DE OBRA PLENO | D40: H | E40: 0.5 | F40: 118.94 | G40: =F40*1.2698 -> 151.03001 | H40: =ROUND((E40*G40),2) -> 75.52
A41: 5.2 | B41: SINAPI 88266 | C41: TÉCNICO EM INSTRUMENTAÇÃO ELÉTRICA | D41: H | E41: 0.5 | F41: 46.23 | G41: =F41*1.2698 -> 58.702854 | H41: =ROUND((E41*G41),2) -> 29.35
...
