Workbook

Sheet Resumo
B2: Data: 15/12/2025
B3: DEPARTAMENTO DE ÁGUA E ESGOTO DE AMERICANA
B4: Orçamento Sintético Global
B5: PESQUISA, LOCALIZAÇÃO E CORREÇÃO DE VAZAMENTOS NÃO APARENTES NO SISTEMA DE ABASTECIMENTO DE ÁGUA
B6: Resumo
B7: DATA BASE - REGIÃO: SINAPI/SP Set/25; CDHU Set/2025; SABESP Set/25
B11: Item | C11: Frente | D11: Valor (R$)
B12: 1 | C12: =Canteiro!$C$5 -> Canteiro e Administração Local | D12: =Canteiro!H22 -> 0
B13: 2 | C13: =PESQUISA!$C$5 -> Pesquisa de Vazamentos Não Aparentes | D13: =PESQUISA!H45 -> 0
B14: 3 | C14: =REPAROS!C5 -> Reparos de Vazamentos | D14: =REPAROS!H473 -> 0
B15: TOTAL GERAL (R$) | D15: =SUM(D12:D14) -> 0

Sheet Canteiro
B1: =Resumo!B2 -> Data: 15/12/2025
C2: DEPARTAMENTO DE ÁGUA E ESGOTO DE AMERICANA
C3: Orçamento Sintético Global
C4: =Resumo!B5 -> PESQUISA, LOCALIZAÇÃO E CORREÇÃO DE VAZAMENTOS NÃO APARENTES NO SISTEMA DE ABASTECIMENTO DE ÁGUA
C5: Canteiro e Administração Local
C6: Leis Sociais = 92,70% | BDI = 26,98% - obras e serviços
C7: =Resumo!B7 -> DATA BASE - REGIÃO: SINAPI/SP Set/25; CDHU Set/2025; SABESP Set/25
A9: ITEM | B9: CÓDIGO/FONTE | C9: DESCRIÇÃO | D9: UNIDADE | E9: QUANT. | F9: PREÇO UNIT. S/BDI (R$) | G9: PREÇO UNIT. C/BDI (R$) | H9: PREÇO TOTAL (R$)
A10: 1 | B10: CANTEIRO DE OBRAS
A11: 1.1 | B11: LOCAÇÃO
A12: 1.1.1 | B12: COTAÇÃO | C12: LOCAÇÃO DE TERRENO PARA CANTEIRO DE OBRAS | D12: MES | E12: 6 | G12: =F12*1.2698 -> 0 | H12: =ROUND((E12*G12),2) -> 0
A13: 1.1.2 | B13: 02.02.150 CDHU | C13: LOCAÇÃO DE CONTAINER TIPO DEPÓSITO - ÁREA MÍNIMA 13,80 m² | D13: MES | E13: 6 | G13: =F13*1.2698 -> 0 | H13: =ROUND((E13*G13),2) -> 0
A14: 1.1.3 | B14: 02.02.120 CDHU | C14: LOCAÇÃO DE CONTAINER TIPO ALOJAMENTO - ÁREA MÍNIMA 13,80 m² | D14: MES | E14: 6 | G14: =F14*1.2698 -> 0 | H14: =ROUND((E14*G14),2) -> 0
A15: 1.1.4 | B15: 02.02.140 CDHU | C15: LOCAÇÃO DE CONTAINER TIPO ESCRITÓRIO COM 2 VASOS SANITÁRIOS, 2 LAVATÓRIOS, 2 MICTÓRIOS E 4 PONTOS PARA CHUVEIRO - ÁREA MÍNIMA DE 13,80 M² | D15: MES | E15: 6 | G15: =F15*1.2698 -> 0 | H15: =ROUND((E15*G15),2) -> 0
A16: 1.1.5 | B16: 02.01.180 CDHU | C16: BANHEIRO QUÍMICO MODELO STANDARD, COM MANUTENÇÃO CONFORME EXIGÊNCIAS DA CESTESB | D16: MES | E16: 6 | G16: =F16*1.2698 -> 0 | H16: =ROUND((E16*G16),2) -> 0
A17: SUBTOTAL (Etapa): | H17: =SUM(H12:H16) -> 0
A18: 2 | B18: ADMINISTRAÇÃO
A19: 2.1 | B19: ADMINISTRAÇÃO LOCAL
A20: 2.1.1 | B20: SINAPI 90778 | C20: ENGENHEIRO CIVIL DE OBRA PLENO | D20: H | E20: =30*6 -> 180 | G20: =F20*1.2698 -> 0 | H20: =ROUND((E20*G20),2) -> 0
A21: SUBTOTAL (Etapa): | H21: =SUM(H20) -> 0
A22: TOTAL GERAL: | H22: =H17+H21 -> 0

Sheet PESQUISA
B1: =Canteiro!B1 -> Data: 15/12/2025
C2: DEPARTAMENTO DE ÁGUA E ESGOTO DE AMERICANA
C3: Orçamento Sintético Global
C4: =Resumo!B5 -> PESQUISA, LOCALIZAÇÃO E CORREÇÃO DE VAZAMENTOS NÃO APARENTES NO SISTEMA DE ABASTECIMENTO DE ÁGUA
C5: Pesquisa de Vazamentos Não Aparentes
C6: =Canteiro!C6 -> Leis Sociais = 92,70% | BDI = 26,98% - obras e serviços
C7: =Canteiro!C7 -> DATA BASE - REGIÃO: SINAPI/SP Set/25; CDHU Set/2025; SABESP Set/25
A9: ITEM | B9: CÓDIGO/ FONTE | C9: DESCRIÇÃO | D9: UNIDADE | E9: QUANT. | F9: PREÇO UNIT. S/BDI (R$) | G9: PREÇO UNIT. C/BDI (R$) | H9: PREÇO TOTAL (R$)
A10: 1 | B10: MEDIÇÃO DE PRESSÃO - ANTERIOR À PESQUISA
A11: 1.1 | B11: SINAPI 88267 | C11: ENCANADOR OU BOMBEIRO HIDRÁULICO COM ENCARGOS COMPLEMENTARES | D11: H | E11: =15/60 -> 0.25 | G11: =F11*1.2698 -> 0 | H11: =ROUND((E11*G11),2) -> 0
A12: 1.2 | B12: SABESP EQ08245 | C12: MOTOCICLETA 160 CILINDRADAS COM BAÚ - CARGO OU SIMILAR | D12: H | E12: 0.25 | G12: =F12*1.2698 -> 0 | H12: =ROUND((E12*G12),2) -> 0
A13: SUBTOTAL (Etapa): | H13: =SUM(H11:H12) -> 0
A14: QUANTIDADE (UN): | H14: 11800
A15: VALOR TOTAL (R$): | H15: =ROUND((H14*H13),2) -> 0
A16: 2 | B16: MEDIÇÃO DE PRESSÃO - POSTERIOR À PESQUISA
A17: 2.1 | B17: SINAPI 88267 | C17: ENCANADOR OU BOMBEIRO HIDRÁULICO COM ENCARGOS COMPLEMENTARES | D17: H | E17: =15/60 -> 0.25 | G17: =F17*1.2698 -> 0 | H17: =ROUND((E17*G17),2) -> 0
A18: 2.2 | B18: SABESP EQ08245 | C18: MOTOCICLETA 160 CILINDRADAS COM BAÚ - CARGO OU SIMILAR | D18: H | E18: 0.25 | G18: =F18*1.2698 -> 0 | H18: =ROUND((E18*G18),2) -> 0
A19: SUBTOTAL (Etapa): | H19: =SUM(H17:H18) -> 0
A20: QUANTIDADE (UN): | H20: 11800
A21: VALOR TOTAL (R$): | H21: =ROUND((H20*H19),2) -> 0
A22: 3 | B22: DETECÇÃO DE VAZAMENTOS NÃO VISÍVEIS COM GEOFONE ELETRÔNICO E HASTE DE ESCUTA - 1ª VARREDURA
A23: 3.1 | B23: SINAPI 100533 | C23: TECNICO DE PESQUISA ACÚSTICA DE VAZAMENTO | D23: H | E23: 6 | G23: =F23*1.2698 -> 0 | H23: =ROUND((E23*G23),2) -> 0
A24: 3.2 | B24: SINAPI 88243 | C24: AJUDANTE ESPECIALIZADO COM ENCARGOS COMPLEMENTARES | D24: H | E24: 2 | G24: =F24*1.2698 -> 0 | H24: =ROUND((E24*G24),2) -> 0
A25: 3.3 | B25: SINAPI 90779 | C25: COORDENADOR | D25: H | E25: 0.25 | G25: =F25*1.2698 -> 0 | H25: =ROUND((E25*G25),2) -> 0
A26: 3.4 | B26: SINAPI 90778 | C26: ENGENHEIRO CIVIL DE OBRA PLENO | D26: H | E26: 0.5 | G26: =F26*1.2698 -> 0 | H26: =ROUND((E26*G26),2) -> 0
A27: 3.5 | B27: SABESP EQ08249 | C27: VEÍCULO LEVE 4 PORTAS - *84CV | D27: H | E27: 1.5 | G27: =F27*1.2698 -> 0 | H27: =ROUND((E27*G27),2) -> 0
A28: SUBTOTAL (Etapa): | H28: =SUM(H23:H27) -> 0
A29: QUANTIDADE (KM): | H29: 1180
A30: VALOR TOTAL (R$): | H30: =ROUND((H29*H28),2) -> 0
A31: 4 | B31: LEVANTAMENTO DE IRREGULARIDADE CONFIRMADA
A32: 4.1 | B32: SINAPI 88243 | C32: AJUDANTE ESPECIALIZADO COM ENCARGOS COMPLEMENTARES | D32: H | E32: 0.5 | G32: =F32*1.2698 -> 0 | H32: =ROUND((E32*G32),2) -> 0
A33: 4.2 | B33: SINAPI 88267 | C33: ENCANADOR OU BOMBEIRO HIDRÁULICO COM ENCARGOS COMPLEMENTARES | D33: H | E33: =E32 -> 0.5 | G33: =F33*1.2698 -> 0 | H33: =ROUND((E33*G33),2) -> 0
A34: 4.3 | B34: SABESP EQ08249 | C34: VEÍCULO LEVE 4 PORTAS - *84CV | D34: H | E34: 0.25 | G34: =F34*1.2698 -> 0 | H34: =ROUND((E34*G34),2) -> 0
A35: SUBTOTAL (Etapa): | H35: =SUM(H32:H34) -> 0
A36: QUANTIDADE (UN): | H36: 3150
A37: VALOR TOTAL (R$): | H37: =ROUND((H36*H35),2) -> 0
A38: 5 | B38: PESQUISA DE VAZAMENTOS COM CORRELACIONADOR DE RUÍDO - 2ª VARREDURA
A39: 5.1 | B39: SINAPI 100533 | C39: TECNICO DE PESQUISA ACÚSTICA DE VAZAMENTO | D39: H | E39: 4 | G39: =F39*1.2698 -> 0 | H39: =ROUND((E39*G39),2) -> 0
A40: 5.2 | B40: SINAPI 88243 | C40: AJUDANTE ESPECIALIZADO COM ENCARGOS COMPLEMENTARES | D40: H | E40: 1.5 | G40: =F40*1.2698 -> 0 | H40: =ROUND((E40*G40),2) -> 0
A41: 5.3 | B41: SABESP EQ08249 | C41: VEÍCULO LEVE 4 PORTAS - *84CV | D41: H | E41: 1 | G41: =F41*1.2698 -> 0 | H41: =ROUND((E41*G41),2) -> 0
A42: SUBTOTAL (Etapa): | H42: =SUM(H39:H41) -> 0
A43: QUANTIDADE (KM): | H43: 354
A44: VALOR TOTAL (R$): | H44: =ROUND((H43*H42),2) -> 0
A45: TOTAL GERAL: | H45: =H44+H37+H30+H21+H15 -> 0

Sheet REPAROS
B1: =Canteiro!B1 -> Data: 15/12/2025
C2: DEPARTAMENTO DE ÁGUA E ESGOTO DE AMERICANA
C3: Orçamento Sintético Global
C4: =Resumo!B5 -> PESQUISA, LOCALIZAÇÃO E CORREÇÃO DE VAZAMENTOS NÃO APARENTES NO SISTEMA DE ABASTECIMENTO DE ÁGUA
C5: Reparos de Vazamentos
C6: =Canteiro!C6 -> Leis Sociais = 92,70% | BDI = 26,98% - obras e serviços
C7: =Canteiro!C7 -> DATA BASE - REGIÃO: SINAPI/SP Set/25; CDHU Set/2025; SABESP Set/25
A9: ITEM | B9: CÓDIGO/ FONTE | C9: DESCRIÇÃO | D9: UNIDADE | E9: QUANT. | F9: PREÇO UNIT. S/BDI (R$) | G9: PREÇO UNIT. C/BDI (R$) | H9: PREÇO TOTAL (R$)
A10: 1 | B10: CORREÇÃO DE VAZAMENTO EM RAMAIS
A11: 1.1 | B11: CORREÇÃO DE VAZAMENTO EM RAMAIS COM REDE NO PASSEIO
A12: 1.1.1 | B12: SINALIZAÇÃO
A13: 1.1.1.1 | B13: SABESP 70020004 | C13: SINALIZAÇÃO DE TRÁFEGO | D13: M | E13: 2 | G13: =F13*1.2698 -> 0 | H13: =ROUND((E13*G13),2) -> 0
A14: 1.1.2 | B14: DEMOLIÇÕES
A15: 1.1.2.1 | B15: SINAPI 97635 | C15: REMOÇÃO DE PISO DE BLOCO INTERTRAVADO OU DE PEDRA PORTUGUESA, DE FORMA MANUAL, COM REAPROVEITAMENTO. AF_09/2023 | D15: M2 | E15: =2*1 -> 2 | G15: =F15*1.2698 -> 0 | H15: =ROUND((E15*G15),2) -> 0
A16: 1.1.3 | B16: CARGA, DESCARGA E TRANSPORTE DE ENTULHO
A17: 1.1.3.1 | B17: SINAPI 100981 | C17: CARGA, MANOBRA E DESCARGA DE ENTULHO EM CAMINHÃO BASCULANTE 6 M³ - CARGA COM ESCAVADEIRA HIDRÁULICA (CAÇAMBA DE 0,80 M³ / 111 HP) E DESCARGA LIVRE | D17: M3 | E17: =(E15*0.15) -> 0.3 | G17: =F17*1.2698 -> 0 | H17: =ROUND((E17*G17),2) -> 0
A18: 1.1.3.2 | B18: SINAPI 97914 | C18: TRANSPORTE COM CAMINHÃO BASCULANTE DE 6 M3, EM VIA URBANA PAVIMENTADA, DMT ATÉ 30 KM (UNIDADE: M3XKM). AF_01/2018 | D18: M3XKM | E18: =E17*20 -> 6 | G18: =F18*1.2698 -> 0 | H18: =ROUND((E18*G18),2) -> 0
A19: 1.1.3.3 | B19: CDHU 05.09.006 | C19: TAXA DE DESTINAÇÃO DE RESÍDUO SÓLIDO EM ATERRO | D19: T | E19: =E17*2.4 -> 0.72 | G19: =F19*1.2698 -> 0 | H19: =ROUND((E19*G19),2) -> 0
A20: 1.1.4 | B20: MOVIMENTO DE TERRA
A21: 1.1.4.1 | B21: SINAPI 93358 | C21: ESCAVAÇÃO MANUAL DE VALA. AF_09/2024 | D21: M3 | E21: =2*1*1 -> 2 | G21: =F21*1.2698 -> 0 | H21: =ROUND((E21*G21),2) -> 0
A22: 1.1.4.2 | B22: SINAPI 93382 | C22: REATERRO MANUAL DE VALAS, COM COMPACTADOR DE SOLOS DE PERCUSSÃO. AF_08/2023 | D22: M3 | E22: =E21 -> 2 | G22: =F22*1.2698 -> 0 | H22: =ROUND((E22*G22),2) -> 0
A23: 1.1.5 | B23: TROCA DO RAMAL EXISTENTE, INCLUINDO INTERLIGAÇÃO
A24: 1.1.5.1 | B24: SINAPI 104039 | C24: TÊ DE SERVIÇO INTEGRADO, POLIPROPILENO, PARA TUBOS EM PEAD, 63 MM X 20 MM, PARA LIGAÇÃO PREDIAL DE ÁGUA. AF_06/2022 | D24: UN. | E24: 1 | G24: =F24*1.2698 -> 0 | H24: =ROUND((E24*G24),2) -> 0
A25: 1.1.5.2 | B25: SINAPI 104044 | C25: ADAPTADOR, POLIPROPILENO, PARA TUBOS EM PEAD, 20 MM X 3/4", PARA LIGAÇÃO PREDIAL DE ÁGUA. AF_06/2022 | D25: UN. | E25: 1 | G25: =F25*1.2698 -> 0 | H25: =ROUND((E25*G25),2) -> 0
A26: 1.1.5.3 | B26: SINAPI 104053 | C26: UNIÃO, POLIPROPILENO, PARA TUBOS EM PEAD, 20 MM, PARA LIGAÇÃO PREDIAL DE ÁGUA. AF_06/2022 | D26: UN. | E26: 1 | G26: =F26*1.2698 -> 0 | H26: =ROUND((E26*G26),2) -> 0
A27: 1.1.5.4 | B27: SINAPI 104051 | C27: COTOVELO/JOELHO 90°, POLIPROPILENO, PARA TUBOS EM PEAD, 20 X 20 MM, PARA LIGAÇÃO PREDIAL DE ÁGUA. AF_06/2022 | D27: UN. | E27: 1 | G27: =F27*1.2698 -> 0 | H27: =ROUND((E27*G27),2) -> 0
A28: 1.1.5.5 | B28: SINAPI 104055 | C28: REGISTRO ESFERA, PVC, DE PASSEIO, PARA POLIETILENO, 20 MM, PARA LIGAÇÃO PREDIAL DE ÁGUA. AF_06/2022 | D28: UN. | E28: 1 | G28: =F28*1.2698 -> 0 | H28: =ROUND((E28*G28),2) -> 0
A29: 1.1.5.6 | B29: SINAPI 104060 | C29: TUBO, PEAD, PE-80, DE = 20 MM X 2,3 MM, PARA LIGAÇÃO PREDIAL DE ÁGUA. AF_06/2022 | D29: M | E29: 3 | G29: =F29*1.2698 -> 0 | H29: =ROUND((E29*G29),2) -> 0
A30: SUBTOTAL (Etapa): | H30: =SUM(H10:H29) -> 0
A31: QUANTIDADE (UN): | H31: 50
A32: VALOR TOTAL (R$): | H32: =ROUND((H31*H30),2) -> 0
A33: 1.2 | B33: CORREÇÃO DE VAZAMENTO EM RAMAIS COM REDE NA RUA (TROCA DE RAMAL)
A34: 1.2.1 | B34: SINALIZAÇÃO
A35: 1.2.1.1 | B35: SABESP 70020004 | C35: SINALIZAÇÃO DE TRÁFEGO | D35: M | E35: =12*2 -> 24 | G35: =F35*1.2698 -> 0 | H35: =ROUND((E35*G35),2) -> 0
A36: 1.2.2 | B36: DEMOLIÇÕES
A37: 1.2.2.1 | B37: SINAPI 97635 | C37: REMOÇÃO DE PISO DE BLOCO INTERTRAVADO OU DE PEDRA PORTUGUESA, DE FORMA MANUAL, COM REAPROVEITAMENTO. AF_09/2023 | D37: M2 | E37: =1.5*1 -> 1.5 | G37: =F37*1.2698 -> 0 | H37: =ROUND((E37*G37),2) -> 0
A38: 1.2.2.2 | B38: 97636 SINAPI | C38: DEMOLIÇÃO PARCIAL DE PAVIMENTO ASFÁLTICO, DE FORMA MECANIZADA, SEM REAPROVEITAMENTO. AF_12/2017 | D38: M2 | E38: =1.5*1 -> 1.5 | G38: =F38*1.2698 -> 0 | H38: =ROUND((E38*G38),2) -> 0
A39: 1.2.3 | B39: CARGA, DESCARGA E TRANSPORTE DE ENTULHO
A40: 1.2.3.1 | B40: SINAPI 100981 | C40: CARGA, MANOBRA E DESCARGA DE ENTULHO EM CAMINHÃO BASCULANTE 6 M³ - CARGA COM ESCAVADEIRA HIDRÁULICA (CAÇAMBA DE 0,80 M³ / 111 HP) E DESCARGA LIVRE | D40: M3 | E40: =(E37+E38)*0.15 -> 0.45 | G40: =F40*1.2698 -> 0 | H40: =ROUND((E40*G40),2) -> 0
A41: 1.2.3.2 | B41: SINAPI 97914 | C41: TRANSPORTE COM CAMINHÃO BASCULANTE DE 6 M3, EM VIA URBANA PAVIMENTADA, DMT ATÉ 30 KM (UNIDADE: M3XKM). AF_01/2018 | D41: M3XKM | E41: =E40*20 -> 9 | G41: =F41*1.2698 -> 0 | H41: =ROUND((E41*G41),2) -> 0
A42: 1.2.3.3 | B42: CDHU 05.09.006 | C42: TAXA DE DESTINAÇÃO DE RESÍDUO SÓLIDO EM ATERRO | D42: T | E42: =E40*2.4 -> 1.08 | G42: =F42*1.2698 -> 0 | H42: =ROUND((E42*G42),2) -> 0
A43: 1.2.4 | B43: TROCA DO RAMAL EXISTENTE, INCLUINDO INTERLIGAÇÃO
A44: 1.2.4.1 | B44: SINAPI 104039 | C44: TÊ DE SERVIÇO INTEGRADO, POLIPROPILENO, PARA TUBOS EM PEAD, 63 MM X 20 MM, PARA LIGAÇÃO PREDIAL DE ÁGUA. AF_06/2022 | D44: UN. | E44: 1 | G44: =F44*1.2698 -> 0 | H44: =ROUND((E44*G44),2) -> 0
A45: 1.2.4.2 | B45: SINAPI 104044 | C45: ADAPTADOR, POLIPROPILENO, PARA TUBOS EM PEAD, 20 MM X 3/4", PARA LIGAÇÃO PREDIAL DE ÁGUA. AF_06/2022 | D45: UN. | E45: 1 | G45: =F45*1.2698 -> 0 | H45: =ROUND((E45*G45),2) -> 0
A46: 1.2.4.3 | B46: SINAPI 104053 | C46: UNIÃO, POLIPROPILENO, PARA TUBOS EM PEAD, 20 MM, PARA LIGAÇÃO PREDIAL DE ÁGUA. AF_06/2022 | D46: UN. | E46: 1 | G46: =F46*1.2698 -> 0 | H46: =ROUND((E46*G46),2) -> 0
A47: 1.2.4.4 | B47: SINAPI 104051 | C47: COTOVELO/JOELHO 90°, POLIPROPILENO, PARA TUBOS EM PEAD, 20 X 20 MM, PARA LIGAÇÃO PREDIAL DE ÁGUA. AF_06/2022 | D47: UN. | E47: 1 | G47: =F47*1.2698 -> 0 | H47: =ROUND((E47*G47),2) -> 0
A48: 1.2.4.5 | B48: SINAPI 104055 | C48: REGISTRO ESFERA, PVC, DE PASSEIO, PARA POLIETILENO, 20 MM, PARA LIGAÇÃO PREDIAL DE ÁGUA. AF_06/2022 | D48: UN. | E48: 1 | G48: =F48*1.2698 -> 0 | H48: =ROUND((E48*G48),2) -> 0
A49: 1.2.4.6 | B49: SINAPI 9813 | C49: TUBO DE POLIETILENO DE ALTA DENSIDADE (PEAD), PE-80, DE = 20 MM X 2,3 MM DE PAREDE, PARA LIGACAO DE AGUA PREDIAL (NBR 15561) | D49: M | E49: =7.5+0.6 -> 8.1 | G49: =F49*1.2698 -> 0 | H49: =ROUND((E49*G49),2) -> 0
A50: 1.2.4.7 | B50: SINAPI 104060 | C50: EXECUÇÃO DE TROCA DE RAMAL, INCLUINDO A ABERTURA E REATERRO DE CAVAS DE SERVIÇO, INSTALAÇÃO DE TUBO PEAD 20 MM, ATRAVÉS DE MÉTODO NÃO DESTRUTIVO | D50: UN. | E50: 1 | G50: =F50*1.2698 -> 0 | H50: =ROUND((E50*G50),2) -> 0
A51: SUBTOTAL (Etapa): | H51: =SUM(H33:H50) -> 0
A52: QUANTIDADE (UN): | H52: 912
A53: VALOR TOTAL (R$): | H53: =ROUND((H52*H51),2) -> 0
A54: 1.3 | B54: CORREÇÃO DE VAZAMENTO NO PÉ DE CAVALETE
A55: 1.3.1 | B55: SINALIZAÇÃO
A56: 1.3.1.1 | B56: SABESP 70020004 | C56: SINALIZAÇÃO DE TRÁFEGO | D56: M | E56: 2 | G56: =F56*1.2698 -> 0 | H56: =ROUND((E56*G56),2) -> 0
A57: 1.3.2 | B57: DEMOLIÇÕES
A58: 1.3.2.1 | B58: SINAPI 97635 | C58: REMOÇÃO DE PISO DE BLOCO INTERTRAVADO OU DE PEDRA PORTUGUESA, DE FORMA MANUAL, COM REAPROVEITAMENTO. AF_09/2023 | D58: M2 | E58: =1*1 -> 1 | G58: =F58*1.2698 -> 0 | H58: =ROUND((E58*G58),2) -> 0
A59: 1.3.3 | B59: CARGA, DESCARGA E TRANSPORTE DE ENTULHO
A60: 1.3.3.1 | B60: SINAPI 100981 | C60: CARGA, MANOBRA E DESCARGA DE ENTULHO EM CAMINHÃO BASCULANTE 6 M³ - CARGA COM ESCAVADEIRA HIDRÁULICA (CAÇAMBA DE 0,80 M³ / 111 HP) E DESCARGA LIVRE | D60: M3 | E60: =((E58)*0.15) -> 0.15 | G60: =F60*1.2698 -> 0 | H60: =ROUND((E60*G60),2) -> 0
A61: 1.3.3.2 | B61: SINAPI 97914 | C61: TRANSPORTE COM CAMINHÃO BASCULANTE DE 6 M3, EM VIA URBANA PAVIMENTADA, DMT ATÉ 30 KM (UNIDADE: M3XKM). AF_01/2018 | D61: M3XKM | E61: =E60*20 -> 3 | G61: =F61*1.2698 -> 0 | H61: =ROUND((E61*G61),2) -> 0
A62: 1.3.3.3 | B62: CDHU 05.09.006 | C62: TAXA DE DESTINAÇÃO DE RESÍDUO SÓLIDO EM ATERRO | D62: T | E62: =E60*2.4 -> 0.36 | G62: =F62*1.2698 -> 0 | H62: =ROUND((E62*G62),2) -> 0
A63: 1.3.4 | B63: MOVIMENTO DE TERRA
A64: 1.3.4.1 | B64: SINAPI 93358 | C64: ESCAVAÇÃO MANUAL DE VALA. AF_09/2024 | D64: M3 | E64: =1*1*0.8 -> 0.8 | G64: =F64*1.2698 -> 0 | H64: =ROUND((E64*G64),2) -> 0
A65: 1.3.4.2 | B65: SINAPI 93382 | C65: REATERRO MANUAL DE VALAS, COM COMPACTADOR DE SOLOS DE PERCUSSÃO. AF_08/2023 | D65: M3 | E65: =E64 -> 0.8 | G65: =F65*1.2698 -> 0 | H65: =ROUND((E65*G65),2) -> 0
A66: 1.3.5 | B66: REPARO DE CAVALETE
A67: 1.3.5.1 | B67: SABESP HM01844 | C67: CAVALETE KIT PVC DN=20 MM NTS 161 PARA HIDRÔMETRO 1,5 OU 3,0 M3/H | D67: UN. | E67: 1 | G67: =F67*1.2698 -> 0 | H67: =ROUND((E67*G67),2) -> 0
A68: 1.3.5.2 | B68: SINAPI 95635 | C68: INSTALAÇÃO DE KIT CAVALETE PARA MEDIÇÃO DE ÁGUA | D68: UN. | E68: 1 | G68: =F68*1.2698 -> 0 | H68: =ROUND((E68*G68),2) -> 0
A69: 1.3.5.3 | B69: SINAPI 104044 | C69: ADAPTADOR, POLIPROPILENO, PARA TUBOS EM PEAD, 20 MM X 3/4", PARA LIGAÇÃO PREDIAL DE ÁGUA. AF_06/2022 | D69: UN. | E69: 1 | G69: =F69*1.2698 -> 0 | H69: =ROUND((E69*G69),2) -> 0
A70: 1.3.5.4 | B70: SINAPI 104053 | C70: UNIÃO, POLIPROPILENO, PARA TUBOS EM PEAD, 20 MM, PARA LIGAÇÃO PREDIAL DE ÁGUA. AF_06/2022 | D70: UN. | E70: 1 | G70: =F70*1.2698 -> 0 | H70: =ROUND((E70*G70),2) -> 0
A71: 1.3.5.5 | B71: SINAPI 104060 | C71: TUBO, PEAD, PE-80, DE = 20 MM X 2,3 MM, PARA LIGAÇÃO PREDIAL DE ÁGUA. AF_06/2022 | D71: M | E71: 1 | G71: =F71*1.2698 -> 0 | H71: =ROUND((E71*G71),2) -> 0
A72: SUBTOTAL (Etapa): | H72: =SUM(H54:H71) -> 0
A73: QUANTIDADE (UN): | H73: 100
A74: VALOR TOTAL (R$): | H74: =ROUND((H73*H72),2) -> 0
A75: 2 | B75: CORREÇÃO DE VAZAMENTO EM REDES NA RUA
A76: 2.1 | B76: CORREÇÃO DE VAZAMENTO EM REDES NA RUA DN 50 MM - PVC / FERRO FUNDIDO / CIMENTO AMIANTO
A77: 2.1.1 | B77: SINALIZAÇÃO
A78: 2.1.1.1 | B78: SABESP 70020004 | C78: SINALIZAÇÃO DE TRÁFEGO | D78: M | E78: =9.5*2 -> 19 | G78: =F78*1.2698 -> 0 | H78: =ROUND((E78*G78),2) -> 0
A79: 2.1.2 | B79: DEMOLIÇÕES
A80: 2.1.2.1 | B80: 97636 SINAPI | C80: DEMOLIÇÃO PARCIAL DE PAVIMENTO ASFÁLTICO, DE FORMA MECANIZADA, SEM REAPROVEITAMENTO. AF_12/2017 | D80: M2 | E80: =2*2 -> 4 | G80: =F80*1.2698 -> 0 | H80: =ROUND((E80*G80),2) -> 0
A81: 2.1.3 | B81: CARGA, DESCARGA E TRANSPORTE DE ENTULHO
A82: 2.1.3.1 | B82: SINAPI 100981 | C82: CARGA, MANOBRA E DESCARGA DE ENTULHO EM CAMINHÃO BASCULANTE 6 M³ - CARGA COM ESCAVADEIRA HIDRÁULICA (CAÇAMBA DE 0,80 M³ / 111 HP) E DESCARGA LIVRE | D82: M3 | E82: =((E80)*0.15) -> 0.6 | G82: =F82*1.2698 -> 0 | H82: =ROUND((E82*G82),2) -> 0
A83: 2.1.3.2 | B83: SINAPI 97914 | C83: TRANSPORTE COM CAMINHÃO BASCULANTE DE 6 M3, EM VIA URBANA PAVIMENTADA, DMT ATÉ 30 KM (UNIDADE: M3XKM). AF_01/2018 | D83: M3XKM | E83: =E82*20 -> 12 | G83: =F83*1.2698 -> 0 | H83: =ROUND((E83*G83),2) -> 0
A84: 2.1.3.3 | B84: CDHU 05.09.006 | C84: TAXA DE DESTINAÇÃO DE RESÍDUO SÓLIDO EM ATERRO | D84: T | E84: =E82*2.4 -> 1.44 | G84: =F84*1.2698 -> 0 | H84: =ROUND((E84*G84),2) -> 0
A85: 2.1.4 | B85: MOVIMENTO DE TERRA
A86: 2.1.4.1 | B86: SINAPI 102322 | C86: ESCAVAÇÃO MECANIZADA DE VALA COM PROF. ATÉ 1,5 M (MÉDIA MONTANTE E JUSANTE/UMA COMPOSIÇÃO POR TRECHO), RETROESCAV. (0,26 M3), LARG. MENOR QUE 0,8 M, EM SOLO DE 2A CATEGORIA, EM LOCAIS COM ALTO NÍVEL DE INTERFERÊNCIA. AF_09/2024 | D86: M3 | E86: =2*2*1.5 -> 6 | G86: =F86*1.2698 -> 0 | H86: =ROUND((E86*G86),2) -> 0
A87: 2.1.4.2 | B87: SINAPI 93379 | C87: REATERRO MECANIZADO DE VALA COM RETROESCAVADEIRA (CAPACIDADE DA CAÇAMBA DA RETRO: 0,26 M³/POTÊNCIA: 88 HP), LARGURA 0,8 A 1,5 M, PROFUNDIDADE ATÉ 1,5 M, COM SOLO (SEM SUBSTITUIÇÃO) DE 1ª CATEGORIA, COM COMPACTADOR DE SOLOS DE PERCUSSÃO AF_08/2023 | D87: M3 | E87: =E86 -> 6 | G87: =F87*1.2698 -> 0 | H87: =ROUND((E87*G87),2) -> 0
A88: 2.1.5 | B88: INTERVENÇÃO EM REDE DE DISTRIBUIÇÃO
A89: 2.1.5.1 | B89: SABESP HM03169 | C89: JUNTA BOLSA FERRO FUNDIDO DE MÁX=100 MM X DE MÍN=50 MM ADAPTÁVEL P/VARIACAO DIAMETRAL ÁGUA | D89: UN. | E89: 2 | G89: =F89*1.2698 -> 0 | H89: =ROUND((E89*G89),2) -> 0
A90: 2.1.5.2 | B90: SABESP 70140050 | C90: JUNTA ATÉ DN 300 MM - MONTAGEM | D90: UN. | E90: 1 | G90: =F90*1.2698 -> 0 | H90: =ROUND((E90*G90),2) -> 0
A91: 2.1.5.3 | B91: SINAPI 97121 | C91: ASSENTAMENTO DE TUBO DE PVC PBA PARA REDE DE ÁGUA, DN 50 MM, JUNTA ELÁSTICA INTEGRADA, INSTALADO EM LOCAL COM NÍVEL ALTO DE INTERFERÊNCIAS (NÃO INCLUI FORNECIMENTO). AF_05/2024 | D91: M | E91: 1 | G91: =F91*1.2698 -> 0 | H91: =ROUND((E91*G91),2) -> 0
A92: 2.1.5.4 | B92: SINAPI 36378 | C92: TUBO PVC PBA JEI, CLASSE 20, DN 50 MM, PARA REDE DE AGUA (NBR 5647) | D92: M | E92: 1 | G92: =F92*1.2698 -> 0 | H92: =ROUND((E92*G92),2) -> 0
A93: SUBTOTAL (Etapa): | H93: =SUM(H76:H92) -> 0
A94: QUANTIDADE (UN): | H94: 64
A95: VALOR TOTAL (R$): | H95: =ROUND((H94*H93),2) -> 0
A96: 2.2 | B96: CORREÇÃO DE VAZAMENTO EM REDES NA RUA DN 100 MM - PVC / FERRO FUNDIDO / CIMENTO AMIANTO
A97: 2.2.1 | B97: SINALIZAÇÃO
A98: 2.2.1.1 | B98: SABESP 70020004 | C98: SINALIZAÇÃO DE TRÁFEGO | D98: M | E98: =9.5*2 -> 19 | G98: =F98*1.2698 -> 0 | H98: =ROUND((E98*G98),2) -> 0
A99: 2.2.2 | B99: DEMOLIÇÕES
A100: 2.2.2.1 | B100: 97636 SINAPI | C100: DEMOLIÇÃO PARCIAL DE PAVIMENTO ASFÁLTICO, DE FORMA MECANIZADA, SEM REAPROVEITAMENTO. AF_12/2017 | D100: M2 | E100: =2*2 -> 4 | G100: =F100*1.2698 -> 0 | H100: =ROUND((E100*G100),2) -> 0
A101: 2.2.3 | B101: CARGA, DESCARGA E TRANSPORTE DE ENTULHO
...

Sheet Cotação
A1: =Canteiro!B1 -> Data: 15/12/2025
B2: DEPARTAMENTO DE ÁGUA E ESGOTO DE AMERICANA
B3: =Canteiro!C4 -> PESQUISA, LOCALIZAÇÃO E CORREÇÃO DE VAZAMENTOS NÃO APARENTES NO SISTEMA DE ABASTECIMENTO DE ÁGUA
B4: =[1]Frezarim!C5 -> Orçamento Sintético Global
B5: Cotações
A8: LOCAÇÃO DE IMÓVEL | F8: VALOR UNITÁRIO
A9: ITEM | B9: DISCRIMINAÇÃO | C9: A FORTALEZA | D9: IMPÉRIUM IMÓVEIS | E9: CONTATO IMÓVEIS
A10: 1 | B10: LOCAÇÃO DE TERRENO EM ÁREA URBANA, PARA CANTEIRO | C10: 3500 | D10: 3500 | E10: 4300 | F10: =D10 -> 3500
A11: EXECUÇÃO DE TROCA DE RAMAL ATRAVÉS DE MND | F11: VALOR UNITÁRIO
A12: ITEM | B12: DISCRIMINAÇÃO | C12: PARÂMETRO | D12: GOIANIA MAUÁ | E12: PEAD
A13: 1 | B13: LOCAÇÃO DE IMÓVEL RESIDENCIAL COM 3 DORMITÓRIOS, PARA ALOJAMENTO | C13: 1248 | D13: 985 | E13: 552.31 | F13: =D13 -> 985
A20: Engª Civil VANESSA M. DE C. FARIA
A21: Diretora da Unidade Técnica
A22: CREA/SP 506.078.329-7

Sheet Cronograma
C1: DEPARTAMENTO DE AGUA E ESGOTO DE AMERICANA
C2: =Resumo!B5 -> PESQUISA, LOCALIZAÇÃO E CORREÇÃO DE VAZAMENTOS NÃO APARENTES NO SISTEMA DE ABASTECIMENTO DE ÁGUA
C3: Cronograma Físico-Financeiro
C4: =Resumo!B7 -> DATA BASE - REGIÃO: SINAPI/SP Set/25; CDHU Set/2025; SABESP Set/25
A6: ITEM | B6: DISCRIMINAÇÃO DE ATIVIDADES | D6: VALORES (R$) | E6: A Realizar R$ - Meses | L6: TOTAL (R$)
E7: MÊS 1 | F7: MÊS 2 | G7: MÊS 3 | H7: MÊS 4 | I7: MÊS 5 | J7: MÊS 6
A8: 1 | B8: CANTEIRO DE OBRAS E ADMINISTRAÇÃO LOCAL | D8: =Canteiro!H22 -> 0 | E8: =ROUND(($D$8/6),2) -> 0 | F8: =ROUND(($D$8/6),2) -> 0 | G8: =ROUND(($D$8/6),2) -> 0 | H8: =ROUND(($D$8/6),2) -> 0 | I8: =ROUND(($D$8/6),2) -> 0 | J8: =ROUND(($D$8/6),2) -> 0 | L8: =SUM(E8:K8) -> 0
A10: 2 | B10: PESQUISAS DE VAZAMENTOS NÃO APARENTES | D10: =PESQUISA!H45 -> 0 | E10: =ROUND((D10/6),2) -> 0 | F10: =$D$10/6 -> 0 | G10: =$D$10/6 -> 0 | H10: =$D$10/6 -> 0 | I10: =$D$10/6 -> 0 | J10: =$D$10/6 -> 0 | L10: =SUM(E10:K10) -> 0
A12: 3 | B12: REPAROS DE VAZAMENTOS | D12: =REPAROS!H473 -> 0 | E12: =ROUND((D12/6),2) -> 0 | F12: =$D$12/6 -> 0 | G12: =$D$12/6 -> 0 | H12: =$D$12/6 -> 0 | I12: =$D$12/6 -> 0 | J12: =$D$12/6 -> 0 | L12: =SUM(E12:K12) -> 0
A14: TOTAIS EM R$ | D14: =SUM(D8:D13) -> 0 | E14: =SUM(E8:E13) -> 0 | F14: =SUM(F8:F13) -> 0 | G14: =SUM(G8:G13) -> 0 | H14: =SUM(H8:H13) -> 0 | I14: =SUM(I8:I13) -> 0 | J14: =SUM(J8:J13) -> 0 | L14: =SUM(E14:K14)+0.02 -> 0.02
A15: TOTAIS EM % | E15: =E14/$L$14 -> 0 | F15: =F14/$L$14 -> 0 | G15: =G14/$L$14 -> 0 | H15: =H14/$L$14 -> 0 | I15: =I14/$L$14 -> 0 | J15: =J14/$L$14 -> 0 | L15: =SUM(E15:K15) -> 0

Sheet PESQUISA (2)
B1: =Canteiro!B1 -> Data: 15/12/2025
C2: DEPARTAMENTO DE ÁGUA E ESGOTO DE AMERICANA
C3: Orçamento Sintético Global
C4: =Resumo!B5 -> PESQUISA, LOCALIZAÇÃO E CORREÇÃO DE VAZAMENTOS NÃO APARENTES NO SISTEMA DE ABASTECIMENTO DE ÁGUA
C5: Pesquisa de Vazamentos Não Aparentes
C6: =Canteiro!C6 -> Leis Sociais = 92,70% | BDI = 26,98% - obras e serviços
C7: =Canteiro!C7 -> DATA BASE - REGIÃO: SINAPI/SP Set/25; CDHU Set/2025; SABESP Set/25
A9: ITEM | B9: CÓDIGO/ FONTE | C9: DESCRIÇÃO | D9: UNIDADE | E9: QUANT. | F9: PREÇO UNIT. S/BDI (R$) | G9: PREÇO UNIT. C/BDI (R$) | H9: PREÇO TOTAL (R$)
A10: 1 | B10: PLANO DE TRABALHO
A11: 1.1 | B11: SINAPI 90778 | C11: ENGENHEIRO CIVIL DE OBRA PLENO | D11: H | E11: 50 | F11: 118.94 | G11: =F11*1.2698 -> 151.03001 | H11: =ROUND((E11*G11),2) -> 7551.5
A12: SUBTOTAL (Etapa): | H12: =SUM(H11) -> 7551.5
A13: QUANTIDADE (UN): | H13: 1
A14: VALOR TOTAL (R$): | H14: =ROUND((H13*H12),2) -> 7551.5
A15: 2 | B15: TESTE DE ESTANQUEIDADE
A16: 2.1 | B16: SINAPI 90779 | C16: COORDENADOR | D16: H | E16: 1 | F16: 165.69 | G16: =F16*1.2698 -> 210.39316 | H16: =ROUND((E16*G16),2) -> 210.39
A17: 2.2 | B17: SINAPI 90778 | C17: ENGENHEIRO CIVIL DE OBRA PLENO | D17: H | E17: 1 | F17: 118.94 | G17: =F17*1.2698 -> 151.03001 | H17: =ROUND((E17*G17),2) -> 151.03
A18: 2.3 | B18: SINAPI 90776 | C18: ENCARREGADO GERAL COM ENCARGOS COMPLEMENTARES | D18: H | E18: 4 | F18: 44.97 | G18: =F18*1.2698 -> 57.102906 | H18: =ROUND((E18*G18),2) -> 228.41
A19: 2.4 | B19: SINAPI 88267 | C19: ENCANADOR OU BOMBEIRO HIDRÁULICO COM ENCARGOS COMPLEMENTARES | D19: H | E19: 1 | F19: 36.75 | G19: =F19*1.2698 -> 46.66515 | H19: =ROUND((E19*G19),2) -> 46.67
A20: 2.5 | B20: SINAPI 88243 | C20: AJUDANTE ESPECIALIZADO COM ENCARGOS COMPLEMENTARES | D20: H | E20: 4 | F20: 29.69 | G20: =F20*1.2698 -> 37.700362 | H20: =ROUND((E20*G20),2) -> 150.8
A21: 2.6 | B21: SABESP EQ04580 | C21: FURGÃO LEVE 85 A 122CV CARGA ÚTIL 650 a 850KG | D21: H | F21: 29.69 | G21: =F21*1.2698 -> 37.700362 | H21: =ROUND((E21*G21),2) -> 0
A22: 2.7 | B22: SABESP EQ08249 | C22: VEÍCULO LEVE 4 PORTAS - *84CV | D22: H | F22: 40.95 | G22: =F22*1.2698 -> 51.99831 | H22: =ROUND((E22*G22),2) -> 0
A23: SUBTOTAL (Etapa): | H23: =SUM(H16:H20) -> 787.3
A24: QUANTIDADE (UN): | H24: 60
A25: VALOR TOTAL (R$): | H25: =ROUND((H24*H23),2) -> 47238
A26: 3 | B26: MEDIÇÃO DE PRESSÃO - ANTERIOR À PESQUISA
A27: 3.1 | B27: SINAPI 88267 | C27: ENCANADOR OU BOMBEIRO HIDRÁULICO COM ENCARGOS COMPLEMENTARES | D27: H | E27: 0.5 | F27: 39.39 | G27: =F27*1.2698 -> 50.017422 | H27: =ROUND((E27*G27),2) -> 25.01
A28: 3.2 | B28: SINAPI 88243 | C28: AJUDANTE ESPECIALIZADO COM ENCARGOS COMPLEMENTARES | D28: H | E28: 0.5 | F28: 29.69 | G28: =F28*1.2698 -> 37.700362 | H28: =ROUND((E28*G28),2) -> 18.85
A29: SUBTOTAL (Etapa): | H29: =SUM(H27:H28) -> 43.86
A30: QUANTIDADE (UN): | H30: 180
A31: VALOR TOTAL (R$): | H31: =ROUND((H30*H29),2) -> 7894.8
A32: 4 | B32: MEDIÇÃO DE PRESSÃO - RELATÓRIO E MAPA DE CALOR - POSTERIOR À PESQUISA
A33: 4.1 | B33: SINAPI 90778 | C33: ENGENHEIRO CIVIL DE OBRA PLENO | D33: H | E33: 0.5 | F33: 118.94 | G33: =F33*1.2698 -> 151.03001 | H33: =ROUND((E33*G33),2) -> 75.52
A34: 4.2 | B34: SINAPI 100533 | C34: TECNICO DE EDIFICACOES COM ENCARGOS COMPLEMENTARES | D34: H | E34: 4 | F34: 57.79 | G34: =F34*1.2698 -> 73.381742 | H34: =ROUND((E34*G34),2) -> 293.53
A35: 4.3 | B35: SINAPI 88243 | C35: AJUDANTE ESPECIALIZADO COM ENCARGOS COMPLEMENTARES | D35: H | E35: 4 | F35: 29.69 | G35: =F35*1.2698 -> 37.700362 | H35: =ROUND((E35*G35),2) -> 150.8
A36: SUBTOTAL (Etapa): | H36: =SUM(H33:H35) -> 519.85
A37: QUANTIDADE (UN): | H37: 180
A38: VALOR TOTAL (R$): | H38: =ROUND((H37*H36),2) -> 93573
A39: 5 | B39: MEDIÇÃO DE VAZÃO E PRESSÃO - RELATÓRIO E MAPA DE CALOR - ANTERIOR À PESQUISA
A40: 5.1 | B40: SINAPI 90778 | C40: ENGENHEIRO CIVIL DE OBRA PLENO | D40: H | E40: 0.5 | F40: 118.94 | G40: =F40*1.2698 -> 151.03001 | H40: =ROUND((E40*G40),2) -> 75.52
A41: 5.2 | B41: SINAPI 88266 | C41: TÉCNICO EM INSTRUMENTAÇÃO ELÉTRICA | D41: H | E41: 0.5 | F41: 46.23 | G41: =F41*1.2698 -> 58.702854 | H41: =ROUND((E41*G41),2) -> 29.35
A42: 5.3 | B42: SINAPI 100533 | C42: TECNICO DE EDIFICACOES COM ENCARGOS COMPLEMENTARES | D42: H | E42: 4 | F42: 57.79 | G42: =F42*1.2698 -> 73.381742 | H42: =ROUND((E42*G42),2) -> 293.53
A43: 5.4 | B43: SINAPI 88243 | C43: AJUDANTE ESPECIALIZADO COM ENCARGOS COMPLEMENTARES | D43: H | E43: 4 | F43: 29.69 | G43: =F43*1.2698 -> 37.700362 | H43: =ROUND((E43*G43),2) -> 150.8
A44: SUBTOTAL (Etapa): | H44: =SUM(H40:H43) -> 549.2
A45: QUANTIDADE (UN): | H45: 180
A46: VALOR TOTAL (R$): | H46: =ROUND((H45*H44),2) -> 98856
A47: 6 | B47: MEDIÇÃO DE VAZÃO E PRESSÃO - RELATÓRIO E MAPA DE CALOR - POSTERIOR À PESQUISA
A48: 6.1 | B48: SINAPI 90778 | C48: ENGENHEIRO CIVIL DE OBRA PLENO | D48: H | E48: 0.5 | F48: 118.94 | G48: =F48*1.2698 -> 151.03001 | H48: =ROUND((E48*G48),2) -> 75.52
A49: 6.2 | B49: SINAPI 88266 | C49: TÉCNICO EM INSTRUMENTAÇÃO ELÉTRICA | D49: H | E49: 0.5 | F49: 46.23 | G49: =F49*1.2698 -> 58.702854 | H49: =ROUND((E49*G49),2) -> 29.35
A50: 6.3 | B50: SINAPI 100533 | C50: TECNICO DE EDIFICACOES COM ENCARGOS COMPLEMENTARES | D50: H | E50: 4 | F50: 57.79 | G50: =F50*1.2698 -> 73.381742 | H50: =ROUND((E50*G50),2) -> 293.53
A51: 6.4 | B51: SINAPI 88243 | C51: AJUDANTE ESPECIALIZADO COM ENCARGOS COMPLEMENTARES | D51: H | E51: 4 | F51: 29.69 | G51: =F51*1.2698 -> 37.700362 | H51: =ROUND((E51*G51),2) -> 150.8
A52: SUBTOTAL (Etapa): | H52: =SUM(H48:H51) -> 549.2
A53: QUANTIDADE (UN): | H53: 180
A54: VALOR TOTAL (R$): | H54: =ROUND((H53*H52),2) -> 98856
A55: 7 | B55: DETECÇÃO DE VAZAMENTOS NÃO VISÍVEIS COM GEOFONE ELETRÔNICO E HASTE DE ESCUTA - 1ª VARREDURA
A56: 7.1 | B56: SINAPI 90779 | C56: COORDENADOR | D56: H | E56: 1 | F56: 165.69 | G56: =F56*1.2698 -> 210.39316 | H56: =ROUND((E56*G56),2) -> 210.39
A57: 7.2 | B57: SINAPI 90778 | C57: ENGENHEIRO CIVIL DE OBRA PLENO | D57: H | E57: 1 | F57: 118.94 | G57: =F57*1.2698 -> 151.03001 | H57: =ROUND((E57*G57),2) -> 151.03
A58: 7.3 | B58: SINAPI 100533 | C58: TECNICO DE PESQUISA ACÚSTICA DE VAZAMENTO | D58: H | E58: 8 | F58: =18.28*1.927 -> 35.22556 | G58: =F58*1.2698 -> 44.729416 | H58: =ROUND((E58*G58),2) -> 357.84
A59: 7.4 | B59: SINAPI 88243 | C59: AJUDANTE ESPECIALIZADO COM ENCARGOS COMPLEMENTARES | D59: H | E59: 8 | F59: 29.69 | G59: =F59*1.2698 -> 37.700362 | H59: =ROUND((E59*G59),2) -> 301.6
A60: SUBTOTAL (Etapa): | H60: =SUM(H56:H59) -> 1020.86
A61: QUANTIDADE (KM): | H61: 1180
A62: VALOR TOTAL (R$): | H62: =ROUND((H61*H60),2) -> 1204614.8
A63: 8 | B63: LEVANTAMENTO DE IRREGULARIDADE CONFIRMADA
A64: 8.1 | B64: SINAPI 88243 | C64: AJUDANTE ESPECIALIZADO COM ENCARGOS COMPLEMENTARES | D64: H | E64: 1 | F64: 29.69 | G64: =F64*1.2698 -> 37.700362 | H64: =ROUND((E64*G64),2) -> 37.7
A65: SUBTOTAL (Etapa): | H65: =SUM(H64:H64) -> 37.7
A66: QUANTIDADE (UN): | H66: 4000
A67: VALOR TOTAL (R$): | H67: =ROUND((H66*H65),2) -> 150800
A68: 9 | B68: VAZAMENTOS CONFIRMADOS EM RAMAIS E CAVALETES
A69: 9.1 | B69: SINAPI 90778 | C69: ENGENHEIRO CIVIL DE OBRA PLENO | D69: H | E69: 0.5 | F69: 118.94 | G69: =F69*1.2698 -> 151.03001 | H69: =ROUND((E69*G69),2) -> 75.52
A70: 9.2 | B70: SINAPI 100533 | C70: TECNICO DE EDIFICACOES COM ENCARGOS COMPLEMENTARES | D70: H | E70: 2 | F70: 57.79 | G70: =F70*1.2698 -> 73.381742 | H70: =ROUND((E70*G70),2) -> 146.76
A71: 9.3 | B71: SINAPI 88243 | C71: AJUDANTE ESPECIALIZADO COM ENCARGOS COMPLEMENTARES | D71: H | E71: 2 | F71: 29.69 | G71: =F71*1.2698 -> 37.700362 | H71: =ROUND((E71*G71),2) -> 75.4
A72: SUBTOTAL (Etapa): | H72: =SUM(H69:H71) -> 297.68
A73: QUANTIDADE (UN): | H73: 400
A74: VALOR TOTAL (R$): | H74: =ROUND((H73*H72),2) -> 119072
A75: 10 | B75: VAZAMENTOS CONFIRMADOS EM REDES
A76: 10.1 | B76: SINAPI 90778 | C76: ENGENHEIRO CIVIL DE OBRA PLENO | D76: H | E76: 0.5 | F76: 118.94 | G76: =F76*1.2698 -> 151.03001 | H76: =ROUND((E76*G76),2) -> 75.52
A77: 10.2 | B77: SINAPI 100533 | C77: TECNICO DE EDIFICACOES COM ENCARGOS COMPLEMENTARES | D77: H | E77: 4 | F77: 57.79 | G77: =F77*1.2698 -> 73.381742 | H77: =ROUND((E77*G77),2) -> 293.53
A78: 10.3 | B78: SINAPI 88243 | C78: AJUDANTE ESPECIALIZADO COM ENCARGOS COMPLEMENTARES | D78: H | E78: 4 | F78: 29.69 | G78: =F78*1.2698 -> 37.700362 | H78: =ROUND((E78*G78),2) -> 150.8
A79: SUBTOTAL (Etapa): | H79: =SUM(H76:H78) -> 519.85
A80: QUANTIDADE (UN): | H80: 50
A81: VALOR TOTAL (R$): | H81: =ROUND((H80*H79),2) -> 25992.5
A82: 11 | B82: PESQUISA DE VAZAMENTOS COM CORRELACIONADOR DE RUÍDO
A83: 11.1 | B83: SINAPI 90779 | C83: COORDENADOR | D83: H | E83: 0.5 | F83: 165.69 | G83: =F83*1.2698 -> 210.39316 | H83: =ROUND((E83*G83),2) -> 105.2
A84: 11.2 | B84: SINAPI 90778 | C84: ENGENHEIRO CIVIL DE OBRA PLENO | D84: H | E84: 0.5 | F84: 118.94 | G84: =F84*1.2698 -> 151.03001 | H84: =ROUND((E84*G84),2) -> 75.52
A85: 11.3 | B85: SINAPI 100533 | C85: TECNICO DE PESQUISA ACÚSTICA DE VAZAMENTO | D85: H | E85: 4 | F85: =18.28*1.927 -> 35.22556 | G85: =F85*1.2698 -> 44.729416 | H85: =ROUND((E85*G85),2) -> 178.92
A86: 11.4 | B86: SINAPI 88243 | C86: AJUDANTE ESPECIALIZADO COM ENCARGOS COMPLEMENTARES | D86: H | E86: 4 | F86: 29.69 | G86: =F86*1.2698 -> 37.700362 | H86: =ROUND((E86*G86),2) -> 150.8
A87: SUBTOTAL (Etapa): | H87: =SUM(H83:H86) -> 510.44
A88: QUANTIDADE (KM): | H88: 160
A89: VALOR TOTAL (R$): | H89: =ROUND((H88*H87),2) -> 81670.4
A90: 12 | B90: RELATÓRIO DE CONSOLIDAÇÃO DE DADOS DO SETOR
A91: 12.1 | B91: SINAPI 90778 | C91: ENGENHEIRO CIVIL DE OBRA PLENO | D91: H | E91: 1 | F91: 118.94 | G91: =F91*1.2698 -> 151.03001 | H91: =ROUND((E91*G91),2) -> 151.03
A92: SUBTOTAL (Etapa): | H92: =SUM(H91:H91) -> 151.03
A93: QUANTIDADE (UN): | H93: 60
A94: VALOR TOTAL (R$): | H94: =ROUND((H93*H92),2) -> 9061.8
A95: TOTAL GERAL: | H95: =H94+H89+H81+H74+H67+H62+H54+H46+H38+H31+H25+H14 -> 1945180.8
D101: Engª civil VANESSA M. DE C. FARIA
D102: Diretora da Unidade Técnica
D103: CREA/SP 506.078.329-7
