Workbook
Name cronog: #REF!
Name Excel_BuiltIn_Print_Area_1: #REF!
Name Excel_BuiltIn_Print_Area_1: #REF!
Name Excel_BuiltIn_Print_Area_1_1: #REF!
Name Excel_BuiltIn_Print_Area_1_1: #REF!
Name Excel_BuiltIn_Print_Titles_1_1: #REF!
Name Excel_BuiltIn_Print_Titles_1_1: #REF!
Name Excel_BuiltIn_Print_Titles_1_1_1: #REF!
Name Excel_BuiltIn_Print_Titles_1_1_1: #REF!
Name TABLE_10_2: #REF!
Name TABLE_10_2: #REF!
Name TABLE_11_2: #REF!
Name TABLE_11_2: #REF!
Name TABLE_12_2: #REF!
Name TABLE_12_2: #REF!
Name TABLE_13_2: #REF!
Name TABLE_13_2: #REF!
Name TABLE_14_2: #REF!
Name TABLE_14_2: #REF!
Name TABLE_15_2: #REF!
Name TABLE_15_2: #REF!
Name TABLE_16_2: #REF!
Name TABLE_16_2: #REF!
Name TABLE_17_2: #REF!
Name TABLE_17_2: #REF!
Name TABLE_18_2: #REF!
Name TABLE_18_2: #REF!
Name TABLE_19_2: #REF!
Name TABLE_19_2: #REF!
Name TABLE_2: #REF!
Name TABLE_2: #REF!
Name TABLE_2_2: #REF!
Name TABLE_2_2: #REF!
Name TABLE_20_2: #REF!
Name TABLE_20_2: #REF!
Name TABLE_21_2: #REF!
Name TABLE_21_2: #REF!
Name TABLE_22_2: #REF!
Name TABLE_22_2: #REF!
Name TABLE_23_2: #REF!
Name TABLE_23_2: #REF!
Name TABLE_24_2: #REF!
Name TABLE_24_2: #REF!
Name TABLE_25_2: #REF!
Name TABLE_25_2: #REF!
Name TABLE_26_2: #REF!
Name TABLE_26_2: #REF!
Name TABLE_27_2: #REF!
Name TABLE_27_2: #REF!
Name TABLE_28_2: #REF!
Name TABLE_28_2: #REF!
Name TABLE_29_2: #REF!
Name TABLE_29_2: #REF!
Name TABLE_3_2: #REF!
Name TABLE_3_2: #REF!
Name TABLE_30_2: #REF!
Name TABLE_30_2: #REF!
Name TABLE_31_2: #REF!
Name TABLE_31_2: #REF!
Name TABLE_32_2: #REF!

Sheet CRONOGRAMA FÍSICO-FINANCEIRO
E2: CRONOGRAMA FÍSICO-FINANCEIRO
B5: ITEM | C5: DESCRIÇÃO | D5: VALOR (R$) | E5: MÊS 1 | F5: MÊS 2 | G5: MÊS 3 | H5: MÊS 4 | I5: MÊS 5 | J5: MÊS 6 | K5: MÊS 7 | L5: MÊS 8 | M5: MÊS 9 | N5: MÊS 10 | O5: MÊS 11 | P5: MÊS 12
B6: 1.0 | C6: CANTEIRO DE OBRAS | D6: =#REF! -> #REF! | E6: =$E$7/$D$6 -> #REF! | F6: =$E$7/$D$6 -> #REF! | G6: =$E$7/$D$6 -> #REF! | H6: =$E$7/$D$6 -> #REF! | I6: =$E$7/$D$6 -> #REF! | J6: =$E$7/$D$6 -> #REF! | K6: =$E$7/$D$6 -> #REF! | L6: =$E$7/$D$6 -> #REF! | ... P6: =$E$7/$D$6 -> #REF!
E7: =$D$6/12 -> #REF! | F7: =$D$6/12 -> #REF! | G7: =$D$6/12 -> #REF! | H7: =$D$6/12 -> #REF! | I7: =$D$6/12 -> #REF! | J7: =$D$6/12 -> #REF! | K7: =$D$6/12 -> #REF! | L7: =$D$6/12 -> #REF! | ... P7: =$D$6/12 -> #REF!
B8: 2.0 | C8: MANUTENÇÃO PREVENTIVA DE VÁLVULA REDUTORA DE PRESSÃO | E8: =$E$7/$D$6 -> #REF! | F8: =$E$7/$D$6 -> #REF! | G8: =$E$7/$D$6 -> #REF! | H8: =$E$9/$D$8 -> #DIV/0! | I8: =$E$9/$D$8 -> #DIV/0! | J8: =$E$9/$D$8 -> #DIV/0! | K8: =$E$9/$D$8 -> #DIV/0! | L8: =$E$9/$D$8 -> #DIV/0! | M8: =$E$9/$D$8 -> #DIV/0! | N8: =$E$9/$D$8 -> #DIV/0! | O8: =$E$9/$D$8 -> #DIV/0! | P8: =$E$9/$D$8 -> #DIV/0!
C9: MANUTENÇÃO PREVENTIVA DE VÁLVULA REDUTORA DE PRESSÃO
B10: 3.0 | C10: MANUTENÇÃO CORRETIVA DE VÁLVULA REDUTORA DE PRESSÃO | D10: =#REF! -> #REF! | E10: =$E$7/$D$6 -> #REF! | F10: =$E$7/$D$6 -> #REF! | G10: =$E$7/$D$6 -> #REF! | H10: =$E$7/$D$6 -> #REF! | I10: =$E$7/$D$6 -> #REF! | J10: =$E$7/$D$6 -> #REF! | K10: =$E$7/$D$6 -> #REF! | L10: =$E$7/$D$6 -> #REF! | ... P10: =$E$7/$D$6 -> #REF!
E11: =$D$10/12 -> #REF! | F11: =$D$10/12 -> #REF! | G11: =$D$10/12 -> #REF! | H11: =$D$10/12 -> #REF! | I11: =$D$10/12 -> #REF! | J11: =$D$10/12 -> #REF! | K11: =$D$10/12 -> #REF! | L11: =$D$10/12 -> #REF! | ... P11: =$D$10/12 -> #REF!
B12: 4.0 | C12: =#REF! -> #REF! | D12: =#REF! -> #REF! | E12: =$E$7/$D$6 -> #REF! | F12: =$E$7/$D$6 -> #REF! | G12: =$E$7/$D$6 -> #REF! | H12: =$E$7/$D$6 -> #REF! | I12: =$E$7/$D$6 -> #REF! | J12: =$E$7/$D$6 -> #REF! | K12: =$E$7/$D$6 -> #REF! | L12: =$E$7/$D$6 -> #REF! | ... P12: =$E$7/$D$6 -> #REF!
E13: =$D$12/12 -> #REF! | F13: =$D$12/12 -> #REF! | G13: =$D$12/12 -> #REF! | H13: =$D$12/12 -> #REF! | I13: =$D$12/12 -> #REF! | J13: =$D$12/12 -> #REF! | K13: =$D$12/12 -> #REF! | L13: =$D$12/12 -> #REF! | ... P13: =$D$12/12 -> #REF!
B14: 5.0 | C14: =_xlfn.SINGLE(#REF!) -> #NAME? | D14: =#REF! -> #REF! | E14: =$E$7/$D$6 -> #REF! | F14: =$E$7/$D$6 -> #REF! | G14: =$E$7/$D$6 -> #REF! | H14: =$E$7/$D$6 -> #REF! | I14: =$E$7/$D$6 -> #REF! | J14: =$E$7/$D$6 -> #REF! | K14: =$E$7/$D$6 -> #REF! | L14: =$E$7/$D$6 -> #REF! | ... P14: =$E$7/$D$6 -> #REF!
E15: =$D$14/12 -> #REF! | F15: =$D$14/12 -> #REF! | G15: =$D$14/12 -> #REF! | H15: =$D$14/12 -> #REF! | I15: =$D$14/12 -> #REF! | J15: =$D$14/12 -> #REF! | K15: =$D$14/12 -> #REF! | L15: =$D$14/12 -> #REF! | ... P15: =$D$14/12 -> #REF!
B16: 6.0 | C16: =_xlfn.SINGLE(#REF!) -> #NAME? | D16: =#REF! -> #REF! | E16: =$E$7/$D$6 -> #REF! | F16: =$E$7/$D$6 -> #REF! | G16: =$E$7/$D$6 -> #REF! | H16: =$E$7/$D$6 -> #REF! | I16: =$E$7/$D$6 -> #REF! | J16: =$E$7/$D$6 -> #REF! | K16: =$E$7/$D$6 -> #REF! | L16: =$E$7/$D$6 -> #REF! | ... P16: =$E$7/$D$6 -> #REF!
E17: =$D$16/12 -> #REF! | F17: =$D$16/12 -> #REF! | G17: =$D$16/12 -> #REF! | H17: =$D$16/12 -> #REF! | I17: =$D$16/12 -> #REF! | J17: =$D$16/12 -> #REF! | K17: =$D$16/12 -> #REF! | L17: =$D$16/12 -> #REF! | ... P17: =$D$16/12 -> #REF!
B18: TOTAL GERAL | D18: =SUM(D6:D17) -> #REF! | E18: =$E$7/$D$6 -> #REF! | F18: =$E$7/$D$6 -> #REF! | G18: =$E$7/$D$6 -> #REF! | H18: =$E$7/$D$6 -> #REF! | I18: =$E$7/$D$6 -> #REF! | J18: =$E$7/$D$6 -> #REF! | K18: =$E$7/$D$6 -> #REF! | L18: =$E$7/$D$6 -> #REF! | ... P18: =$E$7/$D$6 -> #REF!
B19: CUSTO MENSAL (R$): | E19: =SUM(E7+E9+E11+E13+E15+E17) -> #REF! | F19: =SUM(F7,F9,F11,F13,F15,F17) -> #REF! | G19: =SUM(G7,G9,G11,G13,G15,G17) -> #REF! | H19: =SUM(H7,H9,H11,H13,H15,H17) -> #REF! | I19: =SUM(I7,I9,I11,I13,I15,I17) -> #REF! | J19: =SUM(J7,J9,J11,J13,J15,J17) -> #REF! | K19: =SUM(K7,K9,K11,K13,K15,K17) -> #REF! | L19: =SUM(L7,L9,L11,L13,L15,L17) -> #REF! | M19: =SUM(M7,M9,M11,M13,M15,M17) -> #REF! | ... P19: =SUM(P7,P9,P11,P13,P15,P17) -> #REF!
B20: CUSTO ACUMULADO (R$): | E20: =E19 -> #REF! | F20: =F19+E20 -> #REF! | G20: =G19+F20 -> #REF! | H20: =H19+G20 -> #REF! | I20: =I19+H20 -> #REF! | J20: =J19+I20 -> #REF! | K20: =K19+J20 -> #REF! | L20: =L19+K20 -> #REF! | M20: =M19+L20 -> #REF! | ... P20: =P19+O20 -> #REF!
B21: PORCENTAGEM MENSAL (R$): | E21: 0.0833 | F21: 0.0833 | G21: 0.0833 | H21: 0.0833 | I21: 0.0833 | J21: 0.0833 | K21: 0.0833 | L21: 0.0833 | M21: 0.0833 | N21: 0.0833 | O21: 0.0833 | P21: 0.0833
B22: PORCENTAGEM ACUMULADA (R$): | E22: 0.0833 | F22: =E22+F21 -> 0.1666 | G22: =F22+G21 -> 0.2499 | H22: =G22+H21 -> 0.3332 | I22: =H22+I21 -> 0.4165 | J22: =I22+J21 -> 0.4998 | K22: =J22+K21 -> 0.5831 | L22: =K22+L21 -> 0.6664 | M22: =L22+M21 -> 0.7497 | ... P22: =O22+P21 -> 0.9996

Sheet BDI 
C3: DEPARTAMENTO DE ÁGUA E ESGOTO DE AMERICANA-SP
A7: COMPOSIÇÃO DAS TAXAS DE BDI PARA MATERIAL E MÃO DE OBRA
B10: COMPOSIÇÃO DAS TAXAS DE BDI - MATERIAL
C12: Item componente do BDI | D12: 1º Quartil | E12: Médio | F12: 3º Quartil | G12: Valores Propostos
B13: AC | C13: Administração Central | D13: 0.015 | E13: 0.0345 | F13: 0.0449 | G13: 0.0345
B14: SG | C14: Seguro + Garantia | D14: 0.003 | E14: 0.0048 | F14: 0.0082 | G14: 0.0048
B15: R | C15: Risco | D15: 0.0056 | E15: 0.0085 | F15: 0.0089 | G15: 0.0085
B16: DF | C16: Despesas Financeiras | D16: 0.0085 | E16: 0.0085 | F16: 0.0111 | G16: 0.0085
B17: L | C17: Lucro | D17: 0.035 | E17: 0.0511 | F17: 0.0622 | G17: 0.0396
B18: I1 | C18: PIS e COFINS | D18: 0.0365 | E18: 0.0365 | F18: 0.0365 | G18: 0.0365
B19: I2 | C19: ISSQN (conforme legislação municipal) | D19: 0 | E19: 0 | F19: 0 | G19: 0
B21: BDI - SEM Desoneração folha pagamento | D21: 0.111 | E21: 0.1402 | F21: 0.168 | G21: =((1+G13+G14+G15)*(1+G16)*(1+G17)/(1-G18-G19))-1 -> 0.140168
B25: COMPOSIÇÃO DAS TAXAS DE BDI - MÃO DE OBRA
C27: Item componente do BDI | D27: 1º Quartil | E27: Médio | F27: 3º Quartil | G27: Valores Propostos
B28: AC | C28: Administração Central | D28: 0.0343 | E28: 0.0493 | F28: 0.0671 | G28: =D28 -> 0.0343
B29: SG | C29: Seguro + Garantia | D29: 0.0028 | E29: 0.0049 | F29: 0.0075 | G29: 0.0049
B30: R | C30: Risco | D30: 0.01 | E30: 0.0139 | F30: 0.0174 | G30: 0.0131
B31: DF | C31: Despesas Financeiras | D31: 0.0094 | E31: 0.0099 | F31: 0.0117 | G31: 0.0099
B32: L | C32: Lucro | D32: 0.0674 | E32: 0.0804 | F32: 0.094 | G32: =D32 -> 0.0674
B33: I1 | C33: PIS e COFINS | D33: 0.0365 | E33: 0.0365 | F33: 0.0365 | G33: 0.0365
B34: I2 | C34: ISSQN (conforme legislação municipal) | D34: 0.05 | E34: 0.05 | F34: 0.05 | G34: 0.05
B37: BDI - SEM Desoneração folha pagamento | D37: 0.2076 | E37: 0.2418 | F37: 0.2644 | G37: =((1+G28+G29+G30)*(1+G31)*(1+G32)/(1-G33-G34))-1 -> 0.24175692
B40: Fórmula de Cálculo: BDI (SEM Desoneração) = [(1 + AC + SG + R) * (1 + DF) * (1 + L) / (1 - I1 - I2)] - 1
B44: OBS.: | C44: 1. Valores das colunas "1º Quartil", "Médio" e "3º Quartil", conforme Acórdão n° 2622/2013 - TCU - Plenário, para
C45: obras de construção de redes de abastecimento de água, coleta de esgoto e construções correlatas.
C47: 2. A coluna "Valores Propostos" é apenas para referência, sendo que a licitante deverá apresentar os valores que
C48: estejam de acordo com a sua composição
C50: 3. Valores do PIS = 0,65% e do COFINS = 3,00%, considerando a opção por "Lucro Presumido"
A55: Pedro Alberto Caes
B57: 6.3
B58: 6.4
B59: 6.5
B60: 6.6
B61: 6.7
B62: 6.8
B63: 6.9
B64: 6.10
B65: 6.11
B66: 6.12
B67: 6.13
...

Sheet Resumo
B1: ____/___/2026
B2: DEPARTAMENTO DE ÁGUA E ESGOTO DE AMERICANA
B3: Orçamento Sintético Global
B4: FORNECIMENTO E INSTALAÇÃO DE MACRO MEDIDORES DE VAZÃO E VÁLVULAS REDUTORAS DE PRESSÃO E DELIMITAÇÃO DE ÁREAS DE INFLUÊNCIA
B6: Leis Sociais = 92,70% | BDI = 26,98%
B7: DATA BASE - REGIÃO: SABESP Jan/26; SINAPI/SP Jan/26; CDHU Jan/26; SBC Fev/26 ; PNPC
B8: RESUMO
A10: Item | B10: Frente | H10: Valor (R$)
A11: 1 | B11: =CANTEIRO!C7 -> CANTEIRO E ADMINISTRAÇÃO LOCAL | H11: =CANTEIRO!I38 -> 0
A12: 2 | B12: MACRO MEDIDORES | H12: =MACROS!I254 -> 0
A13: 3 | B13: VÁLVULAS REDUTORAS DE PRESSÃO | H13: =VRPS!I443 -> 0
A14: TOTAL GERAL (R$) | H14: =SUM(H11:I13) -> 0

Sheet CANTEIRO
B1: =Resumo!B1 -> ____/___/2026
C2: DEPARTAMENTO DE ÁGUA E ESGOTO DE AMERICANA
C3: Orçamento Sintético Global
C4: =Resumo!B4 -> FORNECIMENTO E INSTALAÇÃO DE MACRO MEDIDORES DE VAZÃO E VÁLVULAS REDUTORAS DE PRESSÃO E DELIMITAÇÃO DE ÁREAS DE INFLUÊNCIA
C6: =Resumo!B7 -> DATA BASE - REGIÃO: SABESP Jan/26; SINAPI/SP Jan/26; CDHU Jan/26; SBC Fev/26 ; PNPC
C7: CANTEIRO E ADMINISTRAÇÃO LOCAL
G8: Leis Sociais = | I8: 0.927
G9: BDI insumos - obras e serviços = | I9: 0.2698
A10: ITEM | B10: CÓDIGO | C10: FONTE | D10: DESCRIÇÃO | E10: UNID. | F10: QUANT. | G10: PREÇO UNIT. S/BDI (R$) | H10: PREÇO UNIT. C/BDI (R$) | I10: PREÇO TOTAL (R$)
A11: 1 | B11: CANTEIRO DE OBRAS
A12: 1.1 | B12: LOCAÇÕES
A13: 1.1.1 | B13: 21101 | C13: SBC | D13: MOBILIZACAO/DESMOBILIZACAO/MAO DE OBRA E EQUIP. | E13: UND | F13: 1 | H13: =G13*(1+$I$9) -> 0 | I13: =TRUNC(F13*H13,2) -> 0
A14: 1.1.2 | B14: 02.02.150 | C14: CDHU | D14: LOCAÇÃO DE CONTAINER TIPO DEPÓSITO - ÁREA MÍNIMA 13,80 m² | E14: MES | F14: 4 | H14: =G14*(1+$I$9) -> 0 | I14: =TRUNC(F14*H14,2) -> 0
A15: 1.1.3 | B15: 02.02.120 | C15: CDHU | D15: LOCAÇÃO DE CONTAINER TIPO ALOJAMENTO - ÁREA MÍNIMA 13,80 m² | E15: MES | F15: 4 | H15: =G15*(1+$I$9) -> 0 | I15: =TRUNC(F15*H15,2) -> 0
A16: 1.1.4 | B16: 02.02.140 | C16: CDHU | D16: LOCAÇÃO DE CONTAINER TIPO ESCRITÓRIO COM 2 VASOS SANITÁRIOS, 2 LAVATÓRIOS, 2 MICTÓRIOS E 4 PONTOS PARA CHUVEIRO - ÁREA MÍNIMA DE 13,80 M² | E16: MES | F16: 4 | H16: =G16*(1+$I$9) -> 0 | I16: =TRUNC(F16*H16,2) -> 0
A17: 1.1.5 | B17: 02.01.180 | C17: CDHU | D17: BANHEIRO QUÍMICO MODELO STANDARD, COM MANUTENÇÃO CONFORME EXIGÊNCIAS DA CESTESB | E17: MES | F17: 4 | H17: =G17*(1+$I$9) -> 0 | I17: =TRUNC(F17*H17,2) -> 0
A18: 1.1.6 | B18: 12710 | C18: SBC | D18: DESPESAS GERAIS DE MANUTENCAO CANTEIRO DE OBRAS | E18: MES | F18: 4 | H18: =G18*(1+$I$9) -> 0 | I18: =TRUNC(F18*H18,2) -> 0
A19: 1.2 | B19: INSTALAÇÕES PROVISÓRIAS
A20: 1.2.1 | B20: 12074 | C20: SBC | D20: INSTALACAO PROVISORIA DE ENERGIA COM POSTE/MEDIDOR/ATERRAMENTO | E20: UND | F20: 1 | H20: =G20*(1+$I$9) -> 0 | I20: =TRUNC(F20*H20,2) -> 0
A21: SUBTOTAL | I21: =SUM(I13:I20) -> 0
A22: 2 | B22: ADMINISTRAÇÃO
A23: 2.1 | B23: ADMINISTRAÇÃO LOCAL
A24: 2.1.1 | B24: 90778 | C24: SINAPI | D24: ENGENHEIRO CIVIL DE OBRA PLENO | E24: H | F24: =2*120 -> 240 | H24: =G24*(1+$I$9) -> 0 | I24: =TRUNC(F24*H24,2) -> 0
A25: SUBTOTAL | I25: =SUM(I23:I24) -> 0
A26: 3 | B26: PLACA DA OBRA
A27: 3.1 | B27: PLACA EM AÇO
A28: 3.1.1 | B28: CV00609 | C28: SABESP | D28: PLACA AÇO GALV ESP=1,30 MM INCLUSIVE PINTURA PARA IDENTIFICAÇÃO DE OBRAS | E28: M² | F28: =0.8*0.6 -> 0.48 | H28: =G28*(1+$I$9) -> 0 | I28: =TRUNC(F28*H28,2) -> 0
A29: SUBTOTAL | I29: =SUM(I27:I28) -> 0
A30: 4 | B30: SERVIÇOS TÉCNICOS
A31: 4.1 | B31: LOCAÇÃO DE OBRAS PONTUAIS
A32: 4.1.1 | B32: 70010008 | C32: SABESP | D32: LOCAÇÃO DE OBRAS LOCALIZADAS | E32: EQD | F32: 1 | H32: =G32*(1+$I$9) -> 0 | I32: =TRUNC(F32*H32,2) -> 0
A33: 4.2 | B33: CADASTRO DE OBRAS PONTUAIS
A34: 4.2.1 | B34: 70010009 | C34: SABESP | D34: CADASTRO DE OBRAS LOCALIZADAS | E34: EQD | F34: 1 | H34: =G34*(1+$I$9) -> 0 | I34: =TRUNC(F34*H34,2) -> 0
A35: 4.3 | B35: EXECUÇÃO DE SONDAGENS
A36: 4.3.1 | B36: 70180006 | C36: SABESP | D36: SONDAGEM DE REDES E PEÇAS LOCALIZADAS (CAVAS) COM PAVIMENTAÇÃO | E36: UND | F36: =MACROS!F27+MACROS!F57+MACROS!F58+MACROS!F92+MACROS!F93+MACROS!F112+MACROS!F131+MACROS!F152+MACROS!F183+MACROS!F205 -> 12 | H36: =G36*(1+$I$9) -> 0 | I36: =TRUNC(F36*H36,2) -> 0
A37: SUBTOTAL | I37: =SUM(I32:I36) -> 0
A38: TOTAL GERAL: | I38: =I21+I25+I29+I37 -> 0

Sheet MACROS
B1: =Resumo!B1 -> ____/___/2026
C2: DEPARTAMENTO DE ÁGUA E ESGOTO DE AMERICANA
C3: Orçamento Sintético Global
C4: =Resumo!B4 -> FORNECIMENTO E INSTALAÇÃO DE MACRO MEDIDORES DE VAZÃO E VÁLVULAS REDUTORAS DE PRESSÃO E DELIMITAÇÃO DE ÁREAS DE INFLUÊNCIA
C6: =CANTEIRO!C6 -> DATA BASE - REGIÃO: SABESP Jan/26; SINAPI/SP Jan/26; CDHU Jan/26; SBC Fev/26 ; PNPC
C7: MACRO MEDIDORES
G8: Leis Sociais = | I8: 0.927
G9: BDI insumos - obras e serviços = | I9: 0.2698
A10: MACRO MEDIDORES - SAÍDA DOS RESERVATÓRIOS
A11: CR01 - SÃO VITO
A12: ITEM | B12: CÓDIGO | C12: FONTE | D12: DESCRIÇÃO | E12: UNID. | F12: QUANT. | G12: PREÇO UNIT. S/BDI (R$) | H12: PREÇO UNIT. C/BDI (R$) | I12: PREÇO TOTAL (R$)
A13: 1 | B13: MOVIMENTO DE TERRA
A14: 1.1 | B14: ESCAVACOES, CARGAS E TRANSPORTES
A15: 1.1.1 | B15: 70030060 | C15: SABESP | D15: ESCAVAÇÃO EM QUALQUER TERRENO, EXCETO ROCHA, PROF. DE 1,25 A 3,00 M (A) | E15: M³ | F15: =2.9*2.9*2.6 -> 21.866 | H15: =G15*(1+$I$9) -> 0 | I15: =ROUND((F15*H15),2) -> 0
A16: 1.2 | B16: ATERRO E COMPACTACAO
A17: 1.2.1 | B17: 70030020 | C17: SABESP | D17: ATERRO DE VALAS, POÇOS E CAVAS COMPACTADO MECANICAMENTE, COM CONTROLE DO G.C. >= 95% DO E.N.C. (A) | E17: M³ | F17: =F15-(1.9*1.9*2.6) -> 12.48 | H17: =G17*(1+$I$9) -> 0 | I17: =ROUND((F17*H17),2) -> 0
A18: =CONCATENATE("SUBTOTAL ",A13) -> SUBTOTAL 1 | I18: =SUM(I15:I17) -> 0
A19: 2 | B19: INSTALAÇÃO DE MACRO MEDIDORES
A20: 2.1 | B20: INSUMOS
A21: 2.1.1 | B21: HM06175 | C21: SABESP | D21: Colar de tomada tipo meia-cana DN250 mm x 1.1/2" FoFo | E21: UND | F21: 1 | H21: =G21*(1+$I$9) -> 0 | I21: =TRUNC(F21*H21,2) -> 0
A22: 2.1.2 | B22: - | C22: PNCP | D22: Registro Esfera 1.1/2" | E22: UND | F22: 1 | H22: =G22*(1+$I$9) -> 0 | I22: =TRUNC(F22*H22,2) -> 0
A23: 2.1.3 | B23: - | C23: PNCP | D23: Medidor De Vazão Tipo Turbina- Inserção | E23: UND | F23: 1 | H23: =G23*(1+$I$9) -> 0 | I23: =TRUNC(F23*H23,2) -> 0
A24: 2.2 | B24: INSTALAÇÃO
A25: 2.2.1 | B25: =Composições!A52 -> COMP. 05 | C25: CPU | D25: =Composições!A51 -> INSTALAÇÃO DE MACROMEDIDOR DE VAZÃO, TIPO INSERÇÃO, NÃO INTRUSIVO, INCLUSIVE A REALIZAÇÃO DE PITOMETRIA | E25: UND | F25: 1 | H25: =G25*(1+$I$9) -> 0 | I25: =TRUNC(F25*H25,2) -> 0
A26: 2.3 | B26: ABRIGO
A27: 2.3.1 | B27: =Composições!A10 -> COMP. 01 | C27: CPU | D27: =Composições!A9 -> CAIXA PARA PROTEÇÃO PARA MACROMEDIDOR DE VAZÃO TIPO INSERÇÃO - 1,60 X 1,60 M - LOCALIZADOS EM ÁREA INTERNA | E27: UND | F27: 1 | H27: =G27*(1+$I$9) -> 0 | I27: =TRUNC(F27*H27,2) -> 0
A28: SUBTOTAL 2 | I28: =SUM(I20:I27) -> 0
A29: TOTAL MACRO MEDIDORES CR-01: | I29: =I28+I18 -> 0
A30: CR02 - CENTRO
A31: ITEM | B31: CÓDIGO | C31: FONTE | D31: DESCRIÇÃO | E31: UNID. | F31: QUANT. | G31: PREÇO UNIT. S/BDI (R$) | H31: PREÇO UNIT. C/BDI (R$) | I31: PREÇO TOTAL (R$)
A32: 1 | B32: SERVIÇOS INICIAIS
A33: 1.1 | B33: SINALIZAÇÃO E SEGURANÇA
A34: 1.1.1 | B34: 70020004 | C34: SABESP | D34: SINALIZAÇÃO DE TRÁFEGO | E34: M | F34: 15 | H34: =G34*(1+$I$9) -> 0 | I34: =ROUND((F34*H34),2) -> 0
A35: 1.2 | B35: DEMOLICOES E RETIRADAS
A36: 1.2.1 | B36: 97635 | C36: SINAPI | D36: REMOÇÃO DE PISO DE BLOCO INTERTRAVADO OU DE PEDRA PORTUGUESA, DE FORMA MANUAL, COM REAPROVEITAMENTO. AF_09/2023 | E36: M² | F36: =2.9*2.9 -> 8.41 | H36: =G36*(1+$I$9) -> 0 | I36: =ROUND((F36*H36),2) -> 0
A37: =CONCATENATE("SUBTOTAL ",A32) -> SUBTOTAL 1 | I37: =SUM(I34:I36) -> 0
A38: 2 | B38: MOVIMENTO DE TERRA
A39: 2.1 | B39: ESCAVACOES, CARGAS E TRANSPORTES
A40: 2.1.1 | B40: 70030060 | C40: SABESP | D40: ESCAVAÇÃO EM QUALQUER TERRENO, EXCETO ROCHA, PROF. DE 1,25 A 3,00 M (A) | E40: M³ | F40: =(2.9*2.9*2.6)*2 -> 43.732 | H40: =G40*(1+$I$9) -> 0 | I40: =ROUND((F40*H40),2) -> 0
A41: 2.2 | B41: ATERRO E COMPACTACAO
...

Sheet VRPS
B1: =Resumo!B1 -> ____/___/2026
C2: DEPARTAMENTO DE ÁGUA E ESGOTO DE AMERICANA
C3: Orçamento Sintético Global
C4: =MACROS!C4 -> FORNECIMENTO E INSTALAÇÃO DE MACRO MEDIDORES DE VAZÃO E VÁLVULAS REDUTORAS DE PRESSÃO E DELIMITAÇÃO DE ÁREAS DE INFLUÊNCIA
C6: =MACROS!C6 -> DATA BASE - REGIÃO: SABESP Jan/26; SINAPI/SP Jan/26; CDHU Jan/26; SBC Fev/26 ; PNPC
C7: VÁLVULAS REDUTORAS DE PRESSÃO (VRPs) E DELIMITAÇÃO DE ÁREAS DE INFLUÊNCIA
G8: Leis Sociais = | I8: 0.927
G9: BDI insumos - obras e serviços = | I9: 0.2698
A10: DELIMITAÇÃO DE ÁREAS DE INFLUÊNCIA DAS VRPs
A11: ITEM | B11: CÓDIGO | C11: FONTE | D11: DESCRIÇÃO | E11: UNID. | F11: QUANT. | G11: PREÇO UNIT. S/BDI (R$) | H11: PREÇO UNIT. C/BDI (R$) | I11: PREÇO TOTAL (R$)
A12: 1 | B12: SERVIÇOS INICIAIS
A13: 1.1 | B13: SINALIZAÇÃO E SEGURANÇA
A14: 1.1.1 | B14: 70020004 | C14: SABESP | D14: SINALIZAÇÃO DE TRÁFEGO | E14: M | F14: =(14*2)+(14*4)+(14*4)+(14*3) -> 182 | H14: =G14*(1+$I$9) -> 0 | I14: =ROUND((F14*H14),2) -> 0
A15: 1.2 | B15: DEMOLICOES E RETIRADAS
A16: 1.2.1 | B16: 97636 | C16: SINAPI | D16: DEMOLIÇÃO PARCIAL DE PAVIMENTO ASFÁLTICO, DE FORMA MECANIZADA, SEM REAPROVEITAMENTO. | E16: M² | F16: =(2*2)*7+(0.8*8)*2 -> 40.8 | H16: =G16*(1+$I$9) -> 0 | I16: =ROUND((F16*H16),2) -> 0
A17: 1.3 | B17: CARGA, DESCARGA E TRANSPORTE DE ENTULHO
A18: 1.3.1 | B18: 100981 | C18: SINAPI | D18: CARGA, MANOBRA E DESCARGA DE ENTULHO EM CAMINHÃO BASCULANTE 6 M³ - CARGA COM ESCAVADEIRA HIDRÁULICA (CAÇAMBA DE 0,80 M³ / 111 HP) E DESCARGA LIVRE | E18: M³ | F18: =(F16*0.15) -> 6.12 | H18: =G18*(1+$I$9) -> 0 | I18: =ROUND((F18*H18),2) -> 0
A19: 1.3.2 | B19: 97914 | C19: SINAPI | D19: TRANSPORTE COM CAMINHÃO BASCULANTE DE 6 M3, EM VIA URBANA PAVIMENTADA, DMT ATÉ 30 KM (UNIDADE: M3XKM). | E19: M³ x KM | F19: =F18*20 -> 122.4 | H19: =G19*(1+$I$9) -> 0 | I19: =ROUND((F19*H19),2) -> 0
A20: 1.3.3 | B20: 05.09.006 | C20: CDHU | D20: TAXA DE DESTINAÇÃO DE RESÍDUO SÓLIDO EM ATERRO | E20: T | F20: =F18*2.4 -> 14.688 | H20: =G20*(1+$I$9) -> 0 | I20: =ROUND((F20*H20),2) -> 0
A21: =CONCATENATE("SUBTOTAL ",A12) -> SUBTOTAL 1 | I21: =SUM(I14:I20) -> 0
A22: 2 | B22: MOVIMENTO DE TERRA
A23: 2.1 | B23: ESCAVACOES, CARGAS E TRANSPORTES
A24: 2.1.1 | B24: 70030060 | C24: SABESP | D24: ESCAVAÇÃO EM QUALQUER TERRENO, EXCETO ROCHA, PROF. DE 1,25 A 3,00 M (A) | E24: M³ | F24: =F16*1.3 -> 53.04 | H24: =G24*(1+$I$9) -> 0 | I24: =ROUND((F24*H24),2) -> 0
A25: 2.2 | B25: ATERRO E COMPACTACAO
A26: 2.2.1 | B26: 70030020 | C26: SABESP | D26: ATERRO DE VALAS, POÇOS E CAVAS COMPACTADO MECANICAMENTE, COM CONTROLE DO G.C. >= 95% DO E.N.C. (A) | E26: M³ | F26: =F24 -> 53.04 | H26: =G26*(1+$I$9) -> 0 | I26: =ROUND((F26*H26),2) -> 0
A27: =CONCATENATE("SUBTOTAL ",A22) -> SUBTOTAL 2 | I27: =SUM(I24:I26) -> 0
A28: 3 | B28: DRENAGEM
A29: 3.1 | B29: ESGOTAMENTO
A30: 3.1.1 | B30: 7042 | C30: SINAPI | D30: MOTOBOMBA TRASH (PARA ÁGUA SUJA) AUTO ESCORVANTE, MOTOR GASOLINA DE 6,41 HP, DIÂMETROS DE SUCÇÃO X RECALQUE: 3" X 3", HM/Q = 10 MCA / 60 M3/H A 23 MCA / 0 M3/H - CHP DIURNO | E30: H | F30: =(2*7)+(2*2) -> 18 | H30: =G30*(1+$I$9) -> 0 | I30: =ROUND((F30*H30),2) -> 0
A31: =CONCATENATE("SUBTOTAL ",A28) -> SUBTOTAL 3 | I31: =SUM(I30) -> 0
A32: 4 | B32: SERVICOS COMPLEMENTARES EXTERNOS
A33: 4.1 | B33: RECOMPOSIÇÃO DE PAVIMENTO ASFÁLTICO
A34: 4.1.1 | B34: 95995 | C34: SINAPI | D34: EXECUÇÃO DE PAVIMENTO COM APLICAÇÃO DE CONCRETO ASFÁLTICO, CAMADA DE ROLAMENTO - EXCLUSIVE CARGA E TRANSPORTE. | E34: M³ | F34: =F16*0.05 -> 2.04 | H34: =G34*(1+$I$9) -> 0 | I34: =ROUND((F34*H34),2) -> 0
A35: 4.1.2 | B35: 100985 | C35: SINAPI | D35: CARGA DE MISTURA ASFÁLTICA EM CAMINHÃO BASCULANTE 6 M³ | E35: M³ | F35: =F34 -> 2.04 | H35: =G35*(1+$I$9) -> 0 | I35: =ROUND((F35*H35),2) -> 0
A36: 4.1.3 | B36: 97914 | C36: SINAPI | D36: TRANSPORTE COM CAMINHÃO BASCULANTE DE 6 M3, EM VIA URBANA PAVIMENTADA, DMT ATÉ 30 KM (UNIDADE: M3XKM) - CBUQ | E36: M³ x KM | F36: =F34*20 -> 40.8 | H36: =G36*(1+$I$9) -> 0 | I36: =ROUND((F36*H36),2) -> 0
A37: 4.1.4 | B37: 54.03.230 | C37: CDHU | D37: IMPRIMAÇÃO BETUMINOSA LIGANTE | E37: M² | F37: =F16 -> 40.8 | H37: =G37*(1+$I$9) -> 0 | I37: =ROUND((F37*H37),2) -> 0
A38: 4.1.5 | B38: 54.03.240 | C38: CDHU | D38: IMPRIMAÇÃO BETUMINOSA IMPERMEABILIZANTE | E38: M² | F38: =F37 -> 40.8 | H38: =G38*(1+$I$9) -> 0 | I38: =ROUND((F38*H38),2) -> 0
A39: 4.1.6 | B39: 54.01.220 | C39: CDHU | D39: BASE DE BICA CORRIDA | E39: M³ | F39: =F16*0.1 -> 4.08 | H39: =G39*(1+$I$9) -> 0 | I39: =ROUND((F39*H39),2) -> 0
A40: =CONCATENATE("SUBTOTAL ",A32) -> SUBTOTAL 4 | I40: =SUM(I34:I39) -> 0
A41: 5 | B41: MATERIAIS HIDRÁULICOS
...

Sheet Composições
B1: =VRPS!B1 -> ____/___/2026
B2: DEPARTAMENTO DE ÁGUA E ESGOTO DE AMERICANA
B3: Orçamento Sintético Global
B4: =VRPS!C4 -> FORNECIMENTO E INSTALAÇÃO DE MACRO MEDIDORES DE VAZÃO E VÁLVULAS REDUTORAS DE PRESSÃO E DELIMITAÇÃO DE ÁREAS DE INFLUÊNCIA
B5: Composições de Preços Unitários
B6: =Resumo!B7 -> DATA BASE - REGIÃO: SABESP Jan/26; SINAPI/SP Jan/26; CDHU Jan/26; SBC Fev/26 ; PNPC
A9: CAIXA PARA PROTEÇÃO PARA MACROMEDIDOR DE VAZÃO TIPO INSERÇÃO - 1,60 X 1,60 M - LOCALIZADOS EM ÁREA INTERNA
A10: COMP. 01
A11: Código | B11: Descrição | C11: Unid. | D11: Coeficiente | E11: Preço Unitário (R$) | F11: Total (R$)
A12: SINAPI 100324 | B12: LASTRO COM MATERIAL GRANULAR (PEDRA BRITADA N.1 E PEDRA BRITADA N.2), APLICADO EM PISOS OU LAJES SOBRE SOLO, ESPESSURA DE *10 CM*. AF_01/2024 | C12: M3 | D12: =1.9*1.9*0.1 -> 0.361 | F12: =ROUND((D12*E12),2) -> 0
A13: SABESP 70110172 | B13: GRADE DE PISO PULTRUDADA PRFV (FIBRA DE VIDRO) H=38 MM VÃO 38X150 MM INCLUINDO QUADRO DE APOIO (NTS 330) | C13: M2 | D13: =1.75*1.75 -> 3.0625 | F13: =ROUND((D13*E13),2) -> 0
A14: SINAPI 89478 | B14: ALVENARIA DE BLOCOS DE CONCRETO ESTRUTURAL 14X19X29 CM (ESPESSURA 14 CM), FBK = 4,5 MPA, UTILIZANDO COLHER DE PEDREIRO. AF_10/2022 | C14: M2 | D14: =(1.6+1.6+1.9+1.9)*2.5 -> 17.5 | F14: =ROUND((D14*E14),2) -> 0
A15: SINAPI 90283 | B15: GRAUTE FGK=20 MPA; TRAÇO 1:1,8:2,1:0,4 (EM MASSA SECA DE CIMENTO/ AREIA GROSSA/ BRITA 0/ ADITIVO) - PREPARO MECÂNICO COM BETONEIRA 400 L. AF_09/2021 | C15: M3 | D15: =(0.15*0.15*2.5*8)+(1.6*0.15*0.2*8) -> 0.834 | F15: =ROUND((D15*E15),2) -> 0
A16: 24.03.060 CDHU | B16: ESCADA TIPO MARINHEIRO EM AÇO GALVANIZADO | C16: M | D16: 2 | F16: =ROUND((D16*E16),2) -> 0
A17: Total (R$) | F17: =SUM(F12:F16) -> 0
A19: CAIXA PARA PROTEÇÃO PARA MACROMEDIDOR DE VAZÃO TIPO INSERÇÃO - 1,60 X 1,60 M - LOCALIZADOS EM VIA PÚBLICA
A20: COMP. 02
A21: Código | B21: Descrição | C21: Unid. | D21: Coeficiente | E21: Preço Unitário (R$) | F21: Total (R$)
A22: SINAPI 100324 | B22: LASTRO COM MATERIAL GRANULAR (PEDRA BRITADA N.1 E PEDRA BRITADA N.2), APLICADO EM PISOS OU LAJES SOBRE SOLO, ESPESSURA DE *10 CM*. AF_01/2024 | C22: M3 | D22: =1.9*1.9*0.1 -> 0.361 | F22: =ROUND((D22*E22),2) -> 0
A23: SINAPI 89478 | B23: ALVENARIA DE BLOCOS DE CONCRETO ESTRUTURAL 14X19X29 CM (ESPESSURA 14 CM), FBK = 4,5 MPA, UTILIZANDO COLHER DE PEDREIRO. AF_10/2022 | C23: M2 | D23: =(1.6+1.6+1.9+1.9)*2.5 -> 17.5 | F23: =ROUND((D23*E23),2) -> 0
A24: SINAPI 90283 | B24: GRAUTE FGK=20 MPA; TRAÇO 1:1,8:2,1:0,4 (EM MASSA SECA DE CIMENTO/ AREIA GROSSA/ BRITA 0/ ADITIVO) - PREPARO MECÂNICO COM BETONEIRA 400 L. AF_09/2021 | C24: M3 | D24: =(0.15*0.15*2.5*8)+(1.6*0.15*0.2*8) -> 0.834 | F24: =ROUND((D24*E24),2) -> 0
A25: SABESP 70070237 | B25: LAJE DE TAMPA EM CONCRETO ARMADO | C25: M3 | D25: =(1.9*1.9*0.25)-(3.1416*0.3*0.3*0.25) -> 0.831814 | F25: =ROUND((D25*E25),2) -> 0
A26: SABESP 70070230 | B26: ASSENTAMENTO DE TAMPAO DE FERRO FUNDIDO 600 MM | C26: UN. | D26: 1 | F26: =ROUND((D26*E26),2) -> 0
A27: SINAPI 21090 | B27: TAMPAO FOFO ARTICULADO, COM BASE / REQUADRO, CLASSE D400 CARGA MAX 40 T, REDONDO, TAMPA 600 MM (COM INSCRICAO EM RELEVO DO TIPO DE REDE) | C27: UN. | D27: 1 | F27: =ROUND((D27*E27),2) -> 0
A28: 24.03.060 CDHU | B28: ESCADA TIPO MARINHEIRO EM AÇO GALVANIZADO | C28: M | D28: 2 | F28: =ROUND((D28*E28),2) -> 0
A29: Total (R$) | F29: =SUM(F22:F28) -> 0
A31: CAIXA PARA PROTEÇÃO PARA MACROMEDIDOR DE VAZÃO TIPO INSERÇÃO - 4,00 X 3,00 M - LOCALIZADOS EM ÁREA INTERNA
A32: COMP. 03
A33: Código | B33: Descrição | C33: Unid. | D33: Coeficiente | E33: Preço Unitário (R$) | F33: Total (R$)
A34: SINAPI 100324 | B34: LASTRO COM MATERIAL GRANULAR (PEDRA BRITADA N.1 E PEDRA BRITADA N.2), APLICADO EM PISOS OU LAJES SOBRE SOLO, ESPESSURA DE *10 CM*. AF_01/2024 | C34: M3 | D34: =4*3*0.1 -> 1.2 | F34: =ROUND((D34*E34),2) -> 0
A35: SABESP 70110172 | B35: GRADE DE PISO PULTRUDADA PRFV (FIBRA DE VIDRO) H=38 MM VÃO 38X150 MM INCLUINDO QUADRO DE APOIO (NTS 330) | C35: M2 | D35: =4.15*3.15 -> 13.0725 | F35: =ROUND((D35*E35),2) -> 0
A36: SINAPI 89478 | B36: ALVENARIA DE BLOCOS DE CONCRETO ESTRUTURAL 14X19X29 CM (ESPESSURA 14 CM), FBK = 4,5 MPA, UTILIZANDO COLHER DE PEDREIRO. AF_10/2022 | C36: M2 | D36: =(4.3+4.3+3+3)*2.5 -> 36.5 | F36: =ROUND((D36*E36),2) -> 0
A37: SINAPI 90283 | B37: GRAUTE FGK=20 MPA; TRAÇO 1:1,8:2,1:0,4 (EM MASSA SECA DE CIMENTO/ AREIA GROSSA/ BRITA 0/ ADITIVO) - PREPARO MECÂNICO COM BETONEIRA 400 L. AF_09/2021 | C37: M3 | D37: =(0.15*0.15*2.5*10)+(3*0.15*0.2*4)+(4*0.15*0.2*4) -> 1.4025 | F37: =ROUND((D37*E37),2) -> 0
A38: 24.03.060 CDHU | B38: ESCADA TIPO MARINHEIRO EM AÇO GALVANIZADO | C38: M | D38: 2 | F38: =ROUND((D38*E38),2) -> 0
A39: Total (R$) | F39: =SUM(F34:F37) -> 0
A41: AMPLIAÇÃO DE CAIXA PARA PROTEÇÃO PARA MACROMEDIDOR DE VAZÃO TIPO INSERÇÃO - CR-09
A42: COMP. 04
A43: Código | B43: Descrição | C43: Unid. | D43: Coeficiente | E43: Preço Unitário (R$) | F43: Total (R$)
A44: SINAPI 100324 | B44: LASTRO COM MATERIAL GRANULAR (PEDRA BRITADA N.1 E PEDRA BRITADA N.2), APLICADO EM PISOS OU LAJES SOBRE SOLO, ESPESSURA DE *10 CM*. AF_01/2024 | C44: M3 | D44: =1.15*2.3*0.1 -> 0.2645 | F44: =ROUND((D44*E44),2) -> 0
A45: SABESP 70110172 | B45: GRADE DE PISO PULTRUDADA PRFV (FIBRA DE VIDRO) H=38 MM VÃO 38X150 MM INCLUINDO QUADRO DE APOIO (NTS 330) | C45: M2 | D45: =3.3*2.15 -> 7.095 | F45: =ROUND((D45*E45),2) -> 0
...

Sheet Cronograma 
C1: DEPARTAMENTO DE AGUA E ESGOTO DE AMERICANA
C2: CONTRATAÇÃO PARA FORNECIMENTO E INSTALAÇÃO DE MACRO MEDIDORES DE VAZÃO E VÁLVULAS REDUTORAS DE PRESSÃO DO SISTEMA DE DISTRIBUIÇÃO DE ÁGUA DO MUNICÍPIO DE AMERICANA/SP
C3: Cronograma Físico-Financeiro
C4: =VRPS!C6 -> DATA BASE - REGIÃO: SABESP Jan/26; SINAPI/SP Jan/26; CDHU Jan/26; SBC Fev/26 ; PNPC
A6: ITEM | B6: DISCRIMINAÇÃO DE ATIVIDADES | D6: VALORES (R$) | E6: MÊS 1 | F6: MÊS 2 | G6: MÊS 3 | H6: MÊS 4 | I6: TOTAL (R$)
A7: 1 | B7: SERVIÇOS PRELIMINARES | D7: =Resumo!H11 -> 0 | E7: =$D$7/4 -> 0 | F7: =$D$7/4 -> 0 | G7: =$D$7/4 -> 0 | H7: =$D$7/4 -> 0 | I7: =SUM(E7:H7) -> 0
A9: 2 | B9: MACRO MEDIDORES | D9: =Resumo!H12 -> 0 | E9: =$D$9/4 -> 0 | F9: =$D$9/4 -> 0 | G9: =$D$9/4 -> 0 | H9: =$D$9/4 -> 0 | I9: =SUM(E9:H9) -> 0
A11: 3 | B11: VÁLVULAS REDUTORAS DE PRESSÃO | D11: =Resumo!H13 -> 0 | E11: =$D$11/4 -> 0 | F11: =$D$11/4 -> 0 | G11: =$D$11/4 -> 0 | H11: =$D$11/4 -> 0 | I11: =SUM(E11:H11) -> 0
A13: TOTAIS EM R$ | D13: =SUM(D7:D12) -> 0 | E13: =(SUM(E7:E11)) -> 0 | F13: =(SUM(F7:F11)) -> 0 | G13: =(SUM(G7:G11)) -> 0 | H13: =(SUM(H7:H11)) -> 0 | I13: =SUM(E13:H13)+0.01 -> 0.01
A14: TOTAIS EM % | D14: 1 | E14: =E13/$I$13 -> 0 | F14: =F13/$I$13 -> 0 | G14: =G13/$I$13 -> 0 | H14: =H13/$I$13 -> 0 | I14: =SUM(E14:H14) -> 0

Sheet Cotação
A1: =Resumo!B1 -> ____/___/2026
B2: DEPARTAMENTO DE ÁGUA E ESGOTO DE AMERICANA
B3: CONTRATAÇÃO PARA FORNECIMENTO E INSTALAÇÃO DE MACRO MEDIDORES DE VAZÃO E VÁLVULAS REDUTORAS DE PRESSÃO DO SISTEMA DE DISTRIBUIÇÃO DE ÁGUA DO MUNICÍPIO DE AMERICANA/SP
B4: =[1]Frezarim!C5 -> Orçamento Sintético Global
B5: Cotações
A8: 1.0 | B8: MACRO MEDIDORES TIPO TURBINA DE INSERÇÃO - RESERVATÓRIOS | F8: VALOR UNITÁRIO
A9: ITEM | B9: DISCRIMINAÇÃO | C9: FANUEL | D9: MECALTEC | E9: MERCADO LIVRE
A10: 1.1 | B10: Colar de tomada tipo meia-cana DN150 mm x 1.1/2" FoFo | C10: 166 | D10: 653 | F10: =MEDIAN(C10:E10) -> 409.5
A11: 1.2 | B11: Colar de tomada tipo meia-cana DN200 mm x 1.1/2" FoFo | C11: 193 | D11: 755 | F11: =MEDIAN(C11:E11) -> 474
A12: 1.3 | B12: Colar de tomada tipo meia-cana DN250 mm x 1.1/2" FoFo | C12: 215 | D12: 962 | F12: =MEDIAN(C12:E12) -> 588.5
A13: 1.4 | B13: Colar de tomada tipo meia-cana DN300 mm x 1.1/2" FoFo | C13: 254 | D13: 1070 | F13: =MEDIAN(C13:E13) -> 662
A14: 1.5 | B14: Colar de tomada tipo meia-cana DN350 mm x 1.1/2" FoFo | C14: 525 | D14: 1182 | F14: =MEDIAN(C14:E14) -> 853.5
A15: 1.6 | B15: Colar de tomada tipo meia-cana DN400 mm x 1.1/2" FoFo | C15: 558.6 | D15: 1290 | F15: =MEDIAN(C15:E15) -> 924.3
A16: 1.7 | B16: Colar de tomada tipo meia-cana DN500 mm x 1.1/2" FoFo | C16: 890 | D16: 1524 | F16: =MEDIAN(C16:E16) -> 1207
A17: ITEM | B17: DISCRIMINAÇÃO | C17: TECNOFLUID | F17: VALOR UNITÁRIO
A18: 1.8 | B18: Medidor De Vazão Tipo Turbina- Inserção | C18: 12881 | F18: =MEDIAN(C18:E18) -> 12881
A19: ITEM | B19: DISCRIMINAÇÃO | C19: PNCP - Pref. Sete Barras/SP | F19: VALOR UNITÁRIO
A20: 1.9 | B20: Registro Esfera 1.1/2" | C20: 34.82 | F20: =MEDIAN(C20:E20) -> 34.82
A21: 2.0 | B21: MACRO MEDIDORES ELETROMAGNÉTICOS DE INSERÇÃO - ETA I | F21: VALOR UNITÁRIO
A22: ITEM | B22: DISCRIMINAÇÃO | C22: PNCP - SIMAE JHL/SC | F22: VALOR UNITÁRIO
A23: 2.2 | B23: PITOMETRIA (PERFIL DE VELOCIDADES) - MANÔMETRO DIGITAL - ESCALA 0 A 250 MCA | C23: 4103.39 | F23: =MEDIAN(C23:E23) -> 4103.39
A24: 3.0 | B24: MACRO MEDIDORES CARRETEL ELETROMAGNÉTICOS - ETA II | F24: VALOR UNITÁRIO
A25: ITEM | B25: DISCRIMINAÇÃO | C25: TECNOFLUID | D25: EMPRESA X | E25: EMPRESA X
A26: 3.1 | B26: MEDIDOR DE VAZÃO CARRETEL ELETROMAGNÉTICO | C26: 24254 | F26: =MEDIAN(C26:E26) -> 24254
